BEGIN:VCALENDAR
VERSION:2.0
PRODID:-//Spurlock Museum//Spurlock Museum Events//EN
X-WR-CALNAME:Spurlock Museum Events
CALSCALE:GREGORIAN  
METHOD:PUBLISH
BEGIN:VTIMEZONE
TZID:America/Chicago
X-LIC-LOCATION:America/Chicago
BEGIN:DAYLIGHT
TZOFFSETFROM:-0600
TZOFFSETTO:-0500
TZNAME:CDT
DTSTART:19700308T020000
RRULE:FREQ=YEARLY;BYMONTH=3;BYDAY=2SU
END:DAYLIGHT
BEGIN:STANDARD
TZOFFSETFROM:-0500
TZOFFSETTO:-0600
TZNAME:CST
DTSTART:19701101T020000
RRULE:FREQ=YEARLY;BYMONTH=11;BYDAY=1SU
END:STANDARD
END:VTIMEZONE
BEGIN:VEVENT
CLASS:PUBLIC
UID:spurlock-event-1000
SUMMARY;LANGUAGE=en-us:"CAS\/MillerComm Lecture\/Philipp Fehl Memorial Lecture: “Fake, Facsimile, Print: The Techniques and Technologies of Textual Reproduction, 1450 to the Future” by Nick Wilding"
DESCRIPTION:"\rThe difficulties involved in detecting twenty-first century forgeries of early modern books show that we are close to producing perfect forgeries. This talk will describe the history of faking print artifacts and the economic and cultural systems that make such forgeries possible. When did print first acquire the capacity adequately to represent reality? Under what conditions does it matter whether a printed object is materially genuine? What would happen were we to abandon our efforts to distinguish between the fake and the real book?\r\rThe CAS/MillerComm public events series brings to campus people who offer unique cross-disciplinary contributions to the intellectual and cultural life of the university.\r\rThis Center for Advanced Study event is hosted by the School of Architecture, School of Art + Design in conjunction with the Art History Program, College of Law, Department of Astronomy, Department of History, Department of Religion, Graduate School of Library and Information Science, Rare Book and Manuscript Library, and the Spurlock Museum.\r"
DTSTAMP:20260422T125059
DTSTART;TZID=America/Chicago:20150225T160000
DTEND;TZID=America/Chicago:20150225T173000
LOCATION:"Knight Auditorium\, Spurlock Museum\, 600 S. Gregory St.\, Urbana\, IL"
URL:https://www.spurlock.illinois.edu/events/event.php?ID=1000
END:VEVENT

END:VCALENDAR