BEGIN:VCALENDAR
VERSION:2.0
PRODID:-//Spurlock Museum//Spurlock Museum Events//EN
X-WR-CALNAME:Spurlock Museum Events
CALSCALE:GREGORIAN  
METHOD:PUBLISH
BEGIN:VTIMEZONE
TZID:America/Chicago
X-LIC-LOCATION:America/Chicago
BEGIN:DAYLIGHT
TZOFFSETFROM:-0600
TZOFFSETTO:-0500
TZNAME:CDT
DTSTART:19700308T020000
RRULE:FREQ=YEARLY;BYMONTH=3;BYDAY=2SU
END:DAYLIGHT
BEGIN:STANDARD
TZOFFSETFROM:-0500
TZOFFSETTO:-0600
TZNAME:CST
DTSTART:19701101T020000
RRULE:FREQ=YEARLY;BYMONTH=11;BYDAY=1SU
END:STANDARD
END:VTIMEZONE
BEGIN:VEVENT
CLASS:PUBLIC
UID:spurlock-event-1001
SUMMARY;LANGUAGE=en-us:"Energy Conservation Incentive Program Presentation"
DESCRIPTION:"\rThe Energy Conservation Incentive Program (ECIP) awards building upgrades on campus in facilities which have produced top energy conservation results. The ECIP encourages energy conservation through the behavioral and structural changes of academic units and cooperation of building occupants. Each year eight campus buildings will receive ECIP awards in two separate categories.  Join us as the Spurlock Museum is recognized as a 2014 ECIP Award Winner.\r\r\r"
DTSTAMP:20260422T203135
DTSTART;TZID=America/Chicago:20150203T160000
DTEND;TZID=America/Chicago:20150203T180000
LOCATION:"Knight Auditorium\, Spurlock Museum\, 600 S. Gregory St.\, Urbana\, IL"
URL:https://www.spurlock.illinois.edu/events/event.php?ID=1001
END:VEVENT

END:VCALENDAR