BEGIN:VCALENDAR
VERSION:2.0
PRODID:-//Spurlock Museum//Spurlock Museum Events//EN
X-WR-CALNAME:Spurlock Museum Events
CALSCALE:GREGORIAN  
METHOD:PUBLISH
BEGIN:VTIMEZONE
TZID:America/Chicago
X-LIC-LOCATION:America/Chicago
BEGIN:DAYLIGHT
TZOFFSETFROM:-0600
TZOFFSETTO:-0500
TZNAME:CDT
DTSTART:19700308T020000
RRULE:FREQ=YEARLY;BYMONTH=3;BYDAY=2SU
END:DAYLIGHT
BEGIN:STANDARD
TZOFFSETFROM:-0500
TZOFFSETTO:-0600
TZNAME:CST
DTSTART:19701101T020000
RRULE:FREQ=YEARLY;BYMONTH=11;BYDAY=1SU
END:STANDARD
END:VTIMEZONE
BEGIN:VEVENT
CLASS:PUBLIC
UID:spurlock-event-1003
SUMMARY;LANGUAGE=en-us:"Around the World Wednesdays"
DESCRIPTION:"\rThe spring 2015 session of Around the World Wednesdays begins on February 18 with Chinese New Year crafts: dragon cards, scratch magic dragons, animal zodiac rubber stamps, and paper fortune tellers.\r"
DTSTAMP:20260422T142156
DTSTART;TZID=America/Chicago:20150218T093000
DTEND;TZID=America/Chicago:20150218T120000
LOCATION:"Zahn Learning Center\, Spurlock Museum\, 600 S. Gregory St.\, Urbana\, IL"
URL:https://www.spurlock.illinois.edu/events/event.php?ID=1003
END:VEVENT

END:VCALENDAR