BEGIN:VCALENDAR
VERSION:2.0
PRODID:-//Spurlock Museum//Spurlock Museum Events//EN
X-WR-CALNAME:Spurlock Museum Events
CALSCALE:GREGORIAN  
METHOD:PUBLISH
BEGIN:VTIMEZONE
TZID:America/Chicago
X-LIC-LOCATION:America/Chicago
BEGIN:DAYLIGHT
TZOFFSETFROM:-0600
TZOFFSETTO:-0500
TZNAME:CDT
DTSTART:19700308T020000
RRULE:FREQ=YEARLY;BYMONTH=3;BYDAY=2SU
END:DAYLIGHT
BEGIN:STANDARD
TZOFFSETFROM:-0500
TZOFFSETTO:-0600
TZNAME:CST
DTSTART:19701101T020000
RRULE:FREQ=YEARLY;BYMONTH=11;BYDAY=1SU
END:STANDARD
END:VTIMEZONE
BEGIN:VEVENT
CLASS:PUBLIC
UID:spurlock-event-1005
SUMMARY;LANGUAGE=en-us:"Around the World Wednesdays"
DESCRIPTION:"\rAround the World Wednesdays continues with a craft based on the new exhibit, South Asian Seams.  Decorate a muslin drawstring bag, and make a beaded snake to go inside of it.  Out in the exhibit, look at the artifact the craft is based on (a Ralli quilt by the Jogi people, possibly made as a snake collecting bag), and find peacocks, fish, horses and elephants in the various other quilts with our animal bingo sheet.  Arrive anytime 9:30 - 11:30 to craft; the program ends at noon. \r"
DTSTAMP:20260420T060913
DTSTART;TZID=America/Chicago:20150304T093000
DTEND;TZID=America/Chicago:20150304T120000
LOCATION:"Zahn Learning Center\, Spurlock Museum\, 600 S. Gregory St.\, Urbana\, IL"
URL:https://www.spurlock.illinois.edu/events/event.php?ID=1005
END:VEVENT

END:VCALENDAR