BEGIN:VCALENDAR
VERSION:2.0
PRODID:-//Spurlock Museum//Spurlock Museum Events//EN
X-WR-CALNAME:Spurlock Museum Events
CALSCALE:GREGORIAN  
METHOD:PUBLISH
BEGIN:VTIMEZONE
TZID:America/Chicago
X-LIC-LOCATION:America/Chicago
BEGIN:DAYLIGHT
TZOFFSETFROM:-0600
TZOFFSETTO:-0500
TZNAME:CDT
DTSTART:19700308T020000
RRULE:FREQ=YEARLY;BYMONTH=3;BYDAY=2SU
END:DAYLIGHT
BEGIN:STANDARD
TZOFFSETFROM:-0500
TZOFFSETTO:-0600
TZNAME:CST
DTSTART:19701101T020000
RRULE:FREQ=YEARLY;BYMONTH=11;BYDAY=1SU
END:STANDARD
END:VTIMEZONE
BEGIN:VEVENT
CLASS:PUBLIC
UID:spurlock-event-1006
SUMMARY;LANGUAGE=en-us:"Around the World Wednesdays"
DESCRIPTION:"\rThe peacock, with its brilliant fan of tail feathers, is the star of this week’s Around the World Wednesday. You can find images of this unique bird in the special exhibit South Asian Seams and craft your own peacock using various materials, including finger paints and sparkling watercolors. Then see the peacock expressed in the gestures of a classical Indian dance performed by Anine Singh-de Frood and her students. Arrive anytime 9:30 - 11:30 to craft; the program ends at noon.\r"
DTSTAMP:20260420T023424
DTSTART;TZID=America/Chicago:20150311T093000
DTEND;TZID=America/Chicago:20150311T120000
LOCATION:"Zahn Learning Center\, Spurlock Museum\, 600 S. Gregory St.\, Urbana\, IL"
URL:https://www.spurlock.illinois.edu/events/event.php?ID=1006
END:VEVENT

END:VCALENDAR