BEGIN:VCALENDAR
VERSION:2.0
PRODID:-//Spurlock Museum//Spurlock Museum Events//EN
X-WR-CALNAME:Spurlock Museum Events
CALSCALE:GREGORIAN  
METHOD:PUBLISH
BEGIN:VTIMEZONE
TZID:America/Chicago
X-LIC-LOCATION:America/Chicago
BEGIN:DAYLIGHT
TZOFFSETFROM:-0600
TZOFFSETTO:-0500
TZNAME:CDT
DTSTART:19700308T020000
RRULE:FREQ=YEARLY;BYMONTH=3;BYDAY=2SU
END:DAYLIGHT
BEGIN:STANDARD
TZOFFSETFROM:-0500
TZOFFSETTO:-0600
TZNAME:CST
DTSTART:19701101T020000
RRULE:FREQ=YEARLY;BYMONTH=11;BYDAY=1SU
END:STANDARD
END:VTIMEZONE
BEGIN:VEVENT
CLASS:PUBLIC
UID:spurlock-event-1008
SUMMARY;LANGUAGE=en-us:"Around the World Wednesdays"
DESCRIPTION:"\rParents and kids! Create, play, and learn together through crafts and activities from around the world. For the final session of this semester's Around the World Wednesday series, crafters can welcome spring with a colorful carp windsock made from color-diffusing paper. When sprayed with water, marker spreads throughout the windsock to create interesting blended colors. If you missed one of the sessions, we'll have extras of camels, peacocks, and snakes out for participants to craft with.  Arrive anytime between 9:30 and 11:30. The program ends at noon.\r"
DTSTAMP:20260419T153458
DTSTART;TZID=America/Chicago:20150325T093000
DTEND;TZID=America/Chicago:20150325T120000
LOCATION:"Zahn Learning Center\, Spurlock Museum\, 600 S. Gregory St.\, Urbana\, IL"
URL:https://www.spurlock.illinois.edu/events/event.php?ID=1008
END:VEVENT

END:VCALENDAR