BEGIN:VCALENDAR
VERSION:2.0
PRODID:-//Spurlock Museum//Spurlock Museum Events//EN
X-WR-CALNAME:Spurlock Museum Events
CALSCALE:GREGORIAN  
METHOD:PUBLISH
BEGIN:VTIMEZONE
TZID:America/Chicago
X-LIC-LOCATION:America/Chicago
BEGIN:DAYLIGHT
TZOFFSETFROM:-0600
TZOFFSETTO:-0500
TZNAME:CDT
DTSTART:19700308T020000
RRULE:FREQ=YEARLY;BYMONTH=3;BYDAY=2SU
END:DAYLIGHT
BEGIN:STANDARD
TZOFFSETFROM:-0500
TZOFFSETTO:-0600
TZNAME:CST
DTSTART:19701101T020000
RRULE:FREQ=YEARLY;BYMONTH=11;BYDAY=1SU
END:STANDARD
END:VTIMEZONE
BEGIN:VEVENT
CLASS:PUBLIC
UID:spurlock-event-1011
SUMMARY;LANGUAGE=en-us:"CAS\/MillerComm Lecture: “Music’s War Poets” by Kate Kennedy"
DESCRIPTION:"\rWhilst 1914 is now seen as the year in which the world changed forever, 1915 proved to be the most momentous year for the young generation of English poets and composers caught up in the war. In 1915, poet Siegfried Sassoon served in France while Wilfred Owen and Ivor Gurney enlisted. Rupert Brooke and composers William Denis Browne and FS Kelly sailed to Gallipoli never to return.\rKate Kennedy explores the rarely-made connections between these groups to define a body of English ‘war composers’ paralleling the ‘war poets’ with whose existence we are now so familiar.\r\rThis presentation is part of the 1915: Music, Memory, and The Great War Symposium which is free and open to the public. ( http://publish.illinois.edu/music1915/  (external link))\r\rThe CAS/MillerComm public events series brings to campus people who offer unique cross-disciplinary contributions to the intellectual and cultural life of the university.\r\rThis Center for Advanced Study event is hosted by the School of Music in conjunction with the College of Fine and Applied Arts, Cross-Campus Initiative on the Great War, Department of English, Department of French and Italian/French@Illinois, Department of Gender and Women’s Studies, Department of History, Department of Sociology, International Programs and Studies, Krannert Art Museum, Krannert Center for the Performing Arts, Program in Arms Control, Disarmament, and International Security (ACDIS), Sousa Archives and Center for American Music, Spurlock Museum, and the Unit for Criticism and Interpretive Theory.\r"
DTSTAMP:20260420T074841
DTSTART;TZID=America/Chicago:20150310T163000
DTEND;TZID=America/Chicago:20150310T180000
LOCATION:"Knight Auditorium\, Spurlock Museum\, 600 S. Gregory St.\, Urbana\, IL"
URL:https://www.spurlock.illinois.edu/events/event.php?ID=1011
END:VEVENT

END:VCALENDAR