BEGIN:VCALENDAR
VERSION:2.0
PRODID:-//Spurlock Museum//Spurlock Museum Events//EN
X-WR-CALNAME:Spurlock Museum Events
CALSCALE:GREGORIAN  
METHOD:PUBLISH
BEGIN:VTIMEZONE
TZID:America/Chicago
X-LIC-LOCATION:America/Chicago
BEGIN:DAYLIGHT
TZOFFSETFROM:-0600
TZOFFSETTO:-0500
TZNAME:CDT
DTSTART:19700308T020000
RRULE:FREQ=YEARLY;BYMONTH=3;BYDAY=2SU
END:DAYLIGHT
BEGIN:STANDARD
TZOFFSETFROM:-0500
TZOFFSETTO:-0600
TZNAME:CST
DTSTART:19701101T020000
RRULE:FREQ=YEARLY;BYMONTH=11;BYDAY=1SU
END:STANDARD
END:VTIMEZONE
BEGIN:VEVENT
CLASS:PUBLIC
UID:spurlock-event-1024
SUMMARY;LANGUAGE=en-us:"AsiaLENS: AEMS Documentary Film and Discussion Series at the Spurlock 2014–2015: <em>Buddhism after the Tsunami - \rThe Souls of Zen 3\/11 Japan Special<\/em>"
DESCRIPTION:"\rBuddhism after the Tsunami - \rThe Souls of Zen 3/11 Japan Special\rA film by Tim Graf and Jakob Montrasio. 2012. 63 minutes. In Japanese and English, with English subtitles.\r\rIntroduction and post screening discussion led by Brian Ruppert (Associate Professor, Religion and East Asian Language and Culture).\r\rThis documentary film follows Buddhist priests through the aftermath of the earthquake and tsunami that killed nearly 20,000 people in Japan in March 2011. Buddhism After the Tsunami presents perspectives on the important roles Buddhism played in the care of those lost and bereaved in the aftermath of 3/11.\r\rFor more information including contact and distribution, visit the Souls of Zen official website (external link).\r\rThis series of public film screenings and lecture/discussion programs is organized by the Asian Educational Media Service (AEMS) at the Center for East Asian and Pacific Studies. It is planned in collaboration with the Spurlock Museum and presented in the Knight Auditorium. Guest scholars and members of the campus and local communities will introduce the films and lead post-screening audience discussions.\r"
DTSTAMP:20260420T042653
DTSTART;TZID=America/Chicago:20150310T190000
DTEND;TZID=America/Chicago:20150310T210000
LOCATION:"Knight Auditorium\, Spurlock Museum\, 600 S. Gregory St.\, Urbana\, IL"
URL:https://www.spurlock.illinois.edu/events/event.php?ID=1024
END:VEVENT

END:VCALENDAR