BEGIN:VCALENDAR
VERSION:2.0
PRODID:-//Spurlock Museum//Spurlock Museum Events//EN
X-WR-CALNAME:Spurlock Museum Events
CALSCALE:GREGORIAN  
METHOD:PUBLISH
BEGIN:VTIMEZONE
TZID:America/Chicago
X-LIC-LOCATION:America/Chicago
BEGIN:DAYLIGHT
TZOFFSETFROM:-0600
TZOFFSETTO:-0500
TZNAME:CDT
DTSTART:19700308T020000
RRULE:FREQ=YEARLY;BYMONTH=3;BYDAY=2SU
END:DAYLIGHT
BEGIN:STANDARD
TZOFFSETFROM:-0500
TZOFFSETTO:-0600
TZNAME:CST
DTSTART:19701101T020000
RRULE:FREQ=YEARLY;BYMONTH=11;BYDAY=1SU
END:STANDARD
END:VTIMEZONE
BEGIN:VEVENT
CLASS:PUBLIC
UID:spurlock-event-1025
SUMMARY;LANGUAGE=en-us:"AsiaLENS: AEMS Documentary Film and Discussion Series at the Spurlock 2014–2015: <em>Embrace<\/em>"
DESCRIPTION:"\rEmbrace\rA film by Dan Smyer Yu and Pema Tashi. 2011. 55 minutes. In Chinese and English with English subtitles.\r\rIntroduction and post screening discussion facilitated by Dr. Alexander Mayer(Associate Professor, Religion and East Asian Languages and Culture).\r\rThrough the narratives of a father and a son, two tantric yogis of two generations, this film illustrates both the transcendental and inter-sentient dimensions of Tibetan sacred sites and of their ecological significance. It documents a ritualized relationship of people and the place of their dwelling and natural surroundings.\r\rFor more information or to purchase, visit the Director's blog (external link).\r\rView the Embrace trailer on Vimeo (external link).\r\rThis series of public film screenings and lecture/discussion programs is organized by the Asian Educational Media Service (AEMS) at the Center for East Asian and Pacific Studies. It is planned in collaboration with the Spurlock Museum and presented in the Knight Auditorium. Guest scholars and members of the campus and local communities will introduce the films and lead post-screening audience discussions.\r\r"
DTSTAMP:20260422T184843
DTSTART;TZID=America/Chicago:20150210T190000
DTEND;TZID=America/Chicago:20150210T210000
LOCATION:"Knight Auditorium\, Spurlock Museum\, 600 S. Gregory St.\, Urbana\, IL"
URL:https://www.spurlock.illinois.edu/events/event.php?ID=1025
END:VEVENT

END:VCALENDAR