BEGIN:VCALENDAR
VERSION:2.0
PRODID:-//Spurlock Museum//Spurlock Museum Events//EN
X-WR-CALNAME:Spurlock Museum Events
CALSCALE:GREGORIAN  
METHOD:PUBLISH
BEGIN:VTIMEZONE
TZID:America/Chicago
X-LIC-LOCATION:America/Chicago
BEGIN:DAYLIGHT
TZOFFSETFROM:-0600
TZOFFSETTO:-0500
TZNAME:CDT
DTSTART:19700308T020000
RRULE:FREQ=YEARLY;BYMONTH=3;BYDAY=2SU
END:DAYLIGHT
BEGIN:STANDARD
TZOFFSETFROM:-0500
TZOFFSETTO:-0600
TZNAME:CST
DTSTART:19701101T020000
RRULE:FREQ=YEARLY;BYMONTH=11;BYDAY=1SU
END:STANDARD
END:VTIMEZONE
BEGIN:VEVENT
CLASS:PUBLIC
UID:spurlock-event-1038
SUMMARY;LANGUAGE=en-us:"On Being Chinese in America: Inclusion & Exclusion"
DESCRIPTION:"\rA talk by Rocky Chin, Director of the Office of Equal Opportunity and Diversity, New York State Division of Human Rights       \rIn 1911, C.C. Wang became the first Chinese PhD recipient at the University of Illinois. After graduation he returned to Beijing and pursued a career as a government official in the new Chinese Republic.  In 1928, Wang returned to America to administrate the Boxer Indemnity Educational Fund, which supported Chinese student exchange. Wang brought with him his wife and four children. Today, his grandchildren live throughout Canada and the United States.  One grandson, Rocky Chin, a civil rights attorney in NYC, will share the family's story from China to America and his personal reflections on what it means to be Chinese in America.\rRefreshments will be available in the Campbell Lobby after the talk.\r"
DTSTAMP:20260422T132450
DTSTART;TZID=America/Chicago:20150411T140000
DTEND;TZID=America/Chicago:20150411T160000
LOCATION:"Knight Auditorium\, Spurlock Museum\, 600 S. Gregory St.\, Urbana\, IL"
URL:https://www.spurlock.illinois.edu/events/event.php?ID=1038
END:VEVENT

END:VCALENDAR