BEGIN:VCALENDAR
VERSION:2.0
PRODID:-//Spurlock Museum//Spurlock Museum Events//EN
X-WR-CALNAME:Spurlock Museum Events
CALSCALE:GREGORIAN  
METHOD:PUBLISH
BEGIN:VTIMEZONE
TZID:America/Chicago
X-LIC-LOCATION:America/Chicago
BEGIN:DAYLIGHT
TZOFFSETFROM:-0600
TZOFFSETTO:-0500
TZNAME:CDT
DTSTART:19700308T020000
RRULE:FREQ=YEARLY;BYMONTH=3;BYDAY=2SU
END:DAYLIGHT
BEGIN:STANDARD
TZOFFSETFROM:-0500
TZOFFSETTO:-0600
TZNAME:CST
DTSTART:19701101T020000
RRULE:FREQ=YEARLY;BYMONTH=11;BYDAY=1SU
END:STANDARD
END:VTIMEZONE
BEGIN:VEVENT
CLASS:PUBLIC
UID:spurlock-event-1043
SUMMARY;LANGUAGE=en-us:"Zahn Learning Center Open Hours: Pi Day"
DESCRIPTION:"\rEnhance your Spurlock Museum experience with hands-on activities in the Zahn Learning Center. During ZLC Open Hours (ZLC OH), visitors of all ages enjoy engaged learning through exhibit-related crafts and access to teaching artifacts and books. Enjoy pi-related crafts on this very special Pi Day, 3/14/15. Make a circle collage, design a pi perler bead keychain, get a \"cutie pi\" or \"magnum PI\" iron-on (bring a shirt or tote bag if you like, we will iron on the logo for you), and play circle artifact bingo. It is also Albert Einstein's birthday, and you can make an Einstein figure out of a cardboard tube and some cotton fluff. $2 per crafter. Museum admission is free, and weekend parking is free in un-metered spots in lot D 22 behind the museum (enter on Oregon).\r"
DTSTAMP:20260420T004911
DTSTART;TZID=America/Chicago:20150314T130000
DTEND;TZID=America/Chicago:20150314T160000
LOCATION:"Zahn Learning Center\, Spurlock Museum\, 600 S. Gregory St.\, Urbana\, IL"
URL:https://www.spurlock.illinois.edu/events/event.php?ID=1043
END:VEVENT

END:VCALENDAR