BEGIN:VCALENDAR
VERSION:2.0
PRODID:-//Spurlock Museum//Spurlock Museum Events//EN
X-WR-CALNAME:Spurlock Museum Events
CALSCALE:GREGORIAN  
METHOD:PUBLISH
BEGIN:VTIMEZONE
TZID:America/Chicago
X-LIC-LOCATION:America/Chicago
BEGIN:DAYLIGHT
TZOFFSETFROM:-0600
TZOFFSETTO:-0500
TZNAME:CDT
DTSTART:19700308T020000
RRULE:FREQ=YEARLY;BYMONTH=3;BYDAY=2SU
END:DAYLIGHT
BEGIN:STANDARD
TZOFFSETFROM:-0500
TZOFFSETTO:-0600
TZNAME:CST
DTSTART:19701101T020000
RRULE:FREQ=YEARLY;BYMONTH=11;BYDAY=1SU
END:STANDARD
END:VTIMEZONE
BEGIN:VEVENT
CLASS:PUBLIC
UID:spurlock-event-1049
SUMMARY;LANGUAGE=en-us:"Love in the Chinese New Year"
DESCRIPTION:"\rThe Spurlock Museum, Center for East Asian and Pacific Studies, and Asian American Center cordially invite you to join us for this family event celebrating both Chinese New Year and Valentine's Day.  There will be crafts, calligraphy, and a Chinese painting demonstration by  Prof. Su Su, Director of Subaozhen Arts Institute and Associate Professor of Fine Arts at Northwest University, China.\r"
DTSTAMP:20260422T171740
DTSTART;TZID=America/Chicago:20150214T130000
DTEND;TZID=America/Chicago:20150214T160000
LOCATION:"Spurlock Museum\, 600 S. Gregory St.\, Urbana\, IL"
URL:https://www.spurlock.illinois.edu/events/event.php?ID=1049
END:VEVENT

END:VCALENDAR