BEGIN:VCALENDAR
VERSION:2.0
PRODID:-//Spurlock Museum//Spurlock Museum Events//EN
X-WR-CALNAME:Spurlock Museum Events
CALSCALE:GREGORIAN  
METHOD:PUBLISH
BEGIN:VTIMEZONE
TZID:America/Chicago
X-LIC-LOCATION:America/Chicago
BEGIN:DAYLIGHT
TZOFFSETFROM:-0600
TZOFFSETTO:-0500
TZNAME:CDT
DTSTART:19700308T020000
RRULE:FREQ=YEARLY;BYMONTH=3;BYDAY=2SU
END:DAYLIGHT
BEGIN:STANDARD
TZOFFSETFROM:-0500
TZOFFSETTO:-0600
TZNAME:CST
DTSTART:19701101T020000
RRULE:FREQ=YEARLY;BYMONTH=11;BYDAY=1SU
END:STANDARD
END:VTIMEZONE
BEGIN:VEVENT
CLASS:PUBLIC
UID:spurlock-event-1050
SUMMARY;LANGUAGE=en-us:"Exhibit: South Asian Seams"
DESCRIPTION:"\rQuiltmaking is an integral and vital part of South Asian culture. Much the same as here in the West, quilts serve both functional and symbolic purposes. They provide warmth as well as a comfortable place to sit; and they also commemorate special occasions and tell the stories of the lives of their makers. The seams that bring together different pieces of fabric in a quilt also represent the seams that bring together this vast region—its people, its cultures, and its shared tradition of extraordinary textiles. This exhibition is made possible through funding from the Robert and Ardis James Foundation and the Nebraska Humanities Council & Nebraska Cultural Endowment.\r\rThis image is courtesy of the International Quilt Study Center and Museum, University of Nebraska–Lincoln. \r"
DTSTAMP:20260422T155055
DTSTART;TZID=America/Chicago:19691231T180000
DTEND;TZID=America/Chicago:20150801T200000
LOCATION:"Campbell Gallery\, Spurlock Museum\, 600 S. Gregory St.\, Urbana\, IL"
URL:https://www.spurlock.illinois.edu/events/event.php?ID=1050
END:VEVENT

END:VCALENDAR