BEGIN:VCALENDAR
VERSION:2.0
PRODID:-//Spurlock Museum//Spurlock Museum Events//EN
X-WR-CALNAME:Spurlock Museum Events
CALSCALE:GREGORIAN  
METHOD:PUBLISH
BEGIN:VTIMEZONE
TZID:America/Chicago
X-LIC-LOCATION:America/Chicago
BEGIN:DAYLIGHT
TZOFFSETFROM:-0600
TZOFFSETTO:-0500
TZNAME:CDT
DTSTART:19700308T020000
RRULE:FREQ=YEARLY;BYMONTH=3;BYDAY=2SU
END:DAYLIGHT
BEGIN:STANDARD
TZOFFSETFROM:-0500
TZOFFSETTO:-0600
TZNAME:CST
DTSTART:19701101T020000
RRULE:FREQ=YEARLY;BYMONTH=11;BYDAY=1SU
END:STANDARD
END:VTIMEZONE
BEGIN:VEVENT
CLASS:PUBLIC
UID:spurlock-event-1055
SUMMARY;LANGUAGE=en-us:"Zahn Learning Center Open Hours: Jewelry and Flowers for Moms and Graduates"
DESCRIPTION:"\rEnhance your Spurlock Museum experience with hands-on activities in the Zahn Learning Center. During ZLC Open Hours (ZLC OH), visitors of all ages enjoy engaged learning through exhibit-related crafts and access to teaching artifacts and books. This weekend with Mother's Day and graduation close, crafters can make jewelry or colorful paper lotus flowers to celebrate the occasion.  Use Greek gods rubber stamps and shrink plastic to make a bracelet or earrings.  An upcycled button bracelet is easy to make.  Our embossing leaf punch makes lovely leaves and can be painted gold for an ancient Egyptian or Mesopotamian look.  Cut leaves and assemble a lovely lotus flower, and see the lotus flowers in the quilts of the special exhibit, South Asian Seams. $2 per crafter. Museum admission is free, and weekend parking is free in un-metered spots in lot D 22 behind the museum (enter on Oregon).\r\r"
DTSTAMP:20260420T055719
DTSTART;TZID=America/Chicago:20150509T130000
DTEND;TZID=America/Chicago:20150509T160000
LOCATION:"Zahn Learning Center\, Spurlock Museum\, 600 S. Gregory St.\, Urbana\, IL"
URL:https://www.spurlock.illinois.edu/events/event.php?ID=1055
END:VEVENT

END:VCALENDAR