BEGIN:VCALENDAR
VERSION:2.0
PRODID:-//Spurlock Museum//Spurlock Museum Events//EN
X-WR-CALNAME:Spurlock Museum Events
CALSCALE:GREGORIAN  
METHOD:PUBLISH
BEGIN:VTIMEZONE
TZID:America/Chicago
X-LIC-LOCATION:America/Chicago
BEGIN:DAYLIGHT
TZOFFSETFROM:-0600
TZOFFSETTO:-0500
TZNAME:CDT
DTSTART:19700308T020000
RRULE:FREQ=YEARLY;BYMONTH=3;BYDAY=2SU
END:DAYLIGHT
BEGIN:STANDARD
TZOFFSETFROM:-0500
TZOFFSETTO:-0600
TZNAME:CST
DTSTART:19701101T020000
RRULE:FREQ=YEARLY;BYMONTH=11;BYDAY=1SU
END:STANDARD
END:VTIMEZONE
BEGIN:VEVENT
CLASS:PUBLIC
UID:spurlock-event-1056
SUMMARY;LANGUAGE=en-us:"Interdisciplinary CAS Spring Symposium: Showcasing Research of CAS Associates and Fellows"
DESCRIPTION:"\rAt the intellectual heart of the University lies the Center for Advanced Study, bringing together scholars from diverse disciplines and backgrounds, encouraging and rewarding excellence in all areas of academic inquiry.\r\rCAS appointments are among the highest forms of campus recognition.  CAS Professors, permanent members of the Center are joined each year by Associates and Fellows, tenured and untenured University of Illinois faculty who are awarded one semester release time to pursue their projects.  In accordance with the Center's mission, these appointments provide an incentive to pursue the highest level of scholarly achievement.  They also provide faculty members with an unusual opportunity to explore new ideas and demonstrate early results.\r\rJoin recent CAS Associates and Fellows at this inaugural symposium as they present work made possible through these appointments.\r\r"
DTSTAMP:20260419T153540
DTSTART;TZID=America/Chicago:20150420T083000
DTEND;TZID=America/Chicago:20150421T103000
LOCATION:"Knight Auditorium\, Spurlock Museum\, 600 S. Gregory St.\, Urbana\, IL"
URL:https://www.spurlock.illinois.edu/events/event.php?ID=1056
END:VEVENT

END:VCALENDAR