BEGIN:VCALENDAR
VERSION:2.0
PRODID:-//Spurlock Museum//Spurlock Museum Events//EN
X-WR-CALNAME:Spurlock Museum Events
CALSCALE:GREGORIAN  
METHOD:PUBLISH
BEGIN:VTIMEZONE
TZID:America/Chicago
X-LIC-LOCATION:America/Chicago
BEGIN:DAYLIGHT
TZOFFSETFROM:-0600
TZOFFSETTO:-0500
TZNAME:CDT
DTSTART:19700308T020000
RRULE:FREQ=YEARLY;BYMONTH=3;BYDAY=2SU
END:DAYLIGHT
BEGIN:STANDARD
TZOFFSETFROM:-0500
TZOFFSETTO:-0600
TZNAME:CST
DTSTART:19701101T020000
RRULE:FREQ=YEARLY;BYMONTH=11;BYDAY=1SU
END:STANDARD
END:VTIMEZONE
BEGIN:VEVENT
CLASS:PUBLIC
UID:spurlock-event-1057
SUMMARY;LANGUAGE=en-us:"AAUP Censure: What Would it Mean for UI's Future?"
DESCRIPTION:"\rIllinois Program for Research in the Humanities hosts this discussion about the potential impact of censuring the University of Illinois administration by the American Association of University Professors.  Panelists include Andrew Ross (Professor of Social and Cultural Analysis, and American Studies, New York University (via video-conference)), Roy Campbell (Sohaib and Sara Abbasi Professor of Computer Science, University of Illinois at Urbana-Champaign), Susan G. Davis (Professor of Communication and Library and Information Science, University of Illinois at Urbana-Champaign), and Matthew W. Finkin (Professor of Law, University of Illinois at Urbana-Champaign), and the discussion will be moderated by Carol Symes (Lynn M. Martin Professorial Scholar, University of Illinois at Urbana-Champaign).\r\rThis Illinois Program for Research in the Humanities (IPRH) event is co-sponsored by the Spurlock Museum.\r\r"
DTSTAMP:20260419T210634
DTSTART;TZID=America/Chicago:20150428T160000
DTEND;TZID=America/Chicago:20150428T173000
LOCATION:"Knight Auditorium\, Spurlock Museum\, 600 S. Gregory St.\, Urbana\, IL"
URL:https://www.spurlock.illinois.edu/events/event.php?ID=1057
END:VEVENT

END:VCALENDAR