BEGIN:VCALENDAR
VERSION:2.0
PRODID:-//Spurlock Museum//Spurlock Museum Events//EN
X-WR-CALNAME:Spurlock Museum Events
CALSCALE:GREGORIAN  
METHOD:PUBLISH
BEGIN:VTIMEZONE
TZID:America/Chicago
X-LIC-LOCATION:America/Chicago
BEGIN:DAYLIGHT
TZOFFSETFROM:-0600
TZOFFSETTO:-0500
TZNAME:CDT
DTSTART:19700308T020000
RRULE:FREQ=YEARLY;BYMONTH=3;BYDAY=2SU
END:DAYLIGHT
BEGIN:STANDARD
TZOFFSETFROM:-0500
TZOFFSETTO:-0600
TZNAME:CST
DTSTART:19701101T020000
RRULE:FREQ=YEARLY;BYMONTH=11;BYDAY=1SU
END:STANDARD
END:VTIMEZONE
BEGIN:VEVENT
CLASS:PUBLIC
UID:spurlock-event-1058
SUMMARY;LANGUAGE=en-us:"CAS Initiative Lecture: \"Staging the Animal: Theatrical Explorations of Contemporary Human-Animal Relations\" with Holly Hughes and Kim Marra, moderated by Jane Desmond"
DESCRIPTION:"\rWell known performance artist Holly Hughes is joined by award-winning theater scholar Kim Marra to present work that explores human relations with animals through word, sound, image and movement in two performance pieces, with discussion following about the creative process and the growing field of animal studies.\r\rThe Center for Advanced Study Interdisciplinary Initiatives offer campus the opportunity to engage in a yearlong and in-depth conversation about a topic relevant to our entire scholarly community.  For the 15th-anniversary year of this prestigious program, the Center has invited back a few former CAS Resident Associates to reflect on the initiatives they helped organize and how their work has evolved since.\r\rThis event is presented by the Center for Advanced Study and follows a previous CAS Initiative titled \"Knowing Animals: Histories, Strategies and Frontiers in Human/Animal Relations\".\r\r"
DTSTAMP:20260419T225321
DTSTART;TZID=America/Chicago:20150430T160000
DTEND;TZID=America/Chicago:20150430T173000
LOCATION:"Knight Auditorium\, Spurlock Museum\, 600 S. Gregory St.\, Urbana\, IL"
URL:https://www.spurlock.illinois.edu/events/event.php?ID=1058
END:VEVENT

END:VCALENDAR