BEGIN:VCALENDAR
VERSION:2.0
PRODID:-//Spurlock Museum//Spurlock Museum Events//EN
X-WR-CALNAME:Spurlock Museum Events
CALSCALE:GREGORIAN  
METHOD:PUBLISH
BEGIN:VTIMEZONE
TZID:America/Chicago
X-LIC-LOCATION:America/Chicago
BEGIN:DAYLIGHT
TZOFFSETFROM:-0600
TZOFFSETTO:-0500
TZNAME:CDT
DTSTART:19700308T020000
RRULE:FREQ=YEARLY;BYMONTH=3;BYDAY=2SU
END:DAYLIGHT
BEGIN:STANDARD
TZOFFSETFROM:-0500
TZOFFSETTO:-0600
TZNAME:CST
DTSTART:19701101T020000
RRULE:FREQ=YEARLY;BYMONTH=11;BYDAY=1SU
END:STANDARD
END:VTIMEZONE
BEGIN:VEVENT
CLASS:PUBLIC
UID:spurlock-event-1060
SUMMARY;LANGUAGE=en-us:"Performance: \"Feng Zikai: A Modern Literati Artist\""
DESCRIPTION:"\rA dramatic performance by Jianjun Xing and theater majors, this event celebrates the life and work of Feng Zikai (1898- 1975), one of the most gifted and influential artists in China. Introduction by Prof. Gary Xu of East Asian Languages and Cultures.\r\rThis event is sponsored by the Department of East Asian Languages and Cultures and is co-sponsored by the Spurlock Museum.\r"
DTSTAMP:20260420T055720
DTSTART;TZID=America/Chicago:20150502T140000
DTEND;TZID=America/Chicago:20150502T153000
LOCATION:"Knight Auditorium\, Spurlock Museum\, 600 S. Gregory St.\, Urbana\, IL"
URL:https://www.spurlock.illinois.edu/events/event.php?ID=1060
END:VEVENT

END:VCALENDAR