BEGIN:VCALENDAR
VERSION:2.0
PRODID:-//Spurlock Museum//Spurlock Museum Events//EN
X-WR-CALNAME:Spurlock Museum Events
CALSCALE:GREGORIAN  
METHOD:PUBLISH
BEGIN:VTIMEZONE
TZID:America/Chicago
X-LIC-LOCATION:America/Chicago
BEGIN:DAYLIGHT
TZOFFSETFROM:-0600
TZOFFSETTO:-0500
TZNAME:CDT
DTSTART:19700308T020000
RRULE:FREQ=YEARLY;BYMONTH=3;BYDAY=2SU
END:DAYLIGHT
BEGIN:STANDARD
TZOFFSETFROM:-0500
TZOFFSETTO:-0600
TZNAME:CST
DTSTART:19701101T020000
RRULE:FREQ=YEARLY;BYMONTH=11;BYDAY=1SU
END:STANDARD
END:VTIMEZONE
BEGIN:VEVENT
CLASS:PUBLIC
UID:spurlock-event-1244
SUMMARY;LANGUAGE=en-us:"Zahn Learning Center Open Hours\r"
DESCRIPTION:"\rDuring ZLC OH on Saturday afternoons, visitors can create crafts inspired by special exhibits, cultural holidays, current events, and Spurlock’s feature gallery collections. Ideal for elementary age students through adults, ZLC OH aims to help visitors explore world cultures by making crafts and spending hands-on time with objects from the Museum’s Teaching Collection. Programming for the fall will include Irish crafts, Day of the Dead, Diwali, and more. \r\r"
DTSTAMP:20260423T084649
DTSTART;TZID=America/Chicago:20161001T130000
DTEND;TZID=America/Chicago:20161001T160000
LOCATION:"Zahn Learning Center\, Spurlock Museum\, 600 S. Gregory St.\, Urbana\, IL"
URL:https://www.spurlock.illinois.edu/events/event.php?ID=1244
END:VEVENT

END:VCALENDAR