BEGIN:VCALENDAR
VERSION:2.0
PRODID:-//Spurlock Museum//Spurlock Museum Events//EN
X-WR-CALNAME:Spurlock Museum Events
CALSCALE:GREGORIAN  
METHOD:PUBLISH
BEGIN:VTIMEZONE
TZID:America/Chicago
X-LIC-LOCATION:America/Chicago
BEGIN:DAYLIGHT
TZOFFSETFROM:-0600
TZOFFSETTO:-0500
TZNAME:CDT
DTSTART:19700308T020000
RRULE:FREQ=YEARLY;BYMONTH=3;BYDAY=2SU
END:DAYLIGHT
BEGIN:STANDARD
TZOFFSETFROM:-0500
TZOFFSETTO:-0600
TZNAME:CST
DTSTART:19701101T020000
RRULE:FREQ=YEARLY;BYMONTH=11;BYDAY=1SU
END:STANDARD
END:VTIMEZONE
BEGIN:VEVENT
CLASS:PUBLIC
UID:spurlock-event-1326
SUMMARY;LANGUAGE=en-us:"Cultural Celebration Series: Jean René Balekita and Bomoyi"
DESCRIPTION:"\rThe Cultural Celebration Series is a joyful, continuing recognition of the diversity of cultures and types of music, dance, and storytelling available in our area. Our April performance will be by Jean René Balekita and Bomoyi.\r\rJean René Balekita and Bomoyi is a professional musical ensemble featuring Congolese rumba with flavors of gospel, jazz, and African rhythms. Bomoyi means “life” in the native language of Lingala. In addition to Lingala they sing in English, French, Kikongo, Swahili, and Tshiluba. Well known in Congo, Jean René Balekita and Bomoyi have recently gained enthusiastic audiences in the United States. Jean René plays acoustic guitar and is joined by vocalists Laeticia Kyungu and Joyce Nkama and Victor Matondo on bass guitar.\r"
DTSTAMP:20260423T070548
DTSTART;TZID=America/Chicago:20170423T130000
DTEND;TZID=America/Chicago:20170423T134500
LOCATION:"Knight Auditorium\, Spurlock Museum\, 600 S. Gregory St.\, Urbana\, IL"
URL:https://www.spurlock.illinois.edu/events/event.php?ID=1326
END:VEVENT

END:VCALENDAR