BEGIN:VCALENDAR
VERSION:2.0
PRODID:-//Spurlock Museum//Spurlock Museum Events//EN
X-WR-CALNAME:Spurlock Museum Events
CALSCALE:GREGORIAN  
METHOD:PUBLISH
BEGIN:VTIMEZONE
TZID:America/Chicago
X-LIC-LOCATION:America/Chicago
BEGIN:DAYLIGHT
TZOFFSETFROM:-0600
TZOFFSETTO:-0500
TZNAME:CDT
DTSTART:19700308T020000
RRULE:FREQ=YEARLY;BYMONTH=3;BYDAY=2SU
END:DAYLIGHT
BEGIN:STANDARD
TZOFFSETFROM:-0500
TZOFFSETTO:-0600
TZNAME:CST
DTSTART:19701101T020000
RRULE:FREQ=YEARLY;BYMONTH=11;BYDAY=1SU
END:STANDARD
END:VTIMEZONE
BEGIN:VEVENT
CLASS:PUBLIC
UID:spurlock-event-1379
SUMMARY;LANGUAGE=en-us:"Historical Campus Walking Tour: “Class Fights, Bootleggers, and Illicit Sex: Crimes on Campus, 1868-1968”"
DESCRIPTION:"\rHistory Department instructor Nathaniel Tye will take visitors to selected sites associated with crimes and civil disobedience on campus. Tours will depart at 1:15 pm and 2:30 pm.\rAbout the series:Expand your insights of the University of Illinois as the Spurlock Museum hosts a series of free walking tours to nearby campus locations. The tours, each beginning in the Museum’s lobby, will be held every Sunday afternoon in October. Tours will be offered between 1:00 pm and 3:30 pm, will average 1 mile in distance, and will last between 45 and 60 minutes. The tours are held in conjunction with the exhibit Knowledge at Work: The University of Illinois at 150.\r"
DTSTAMP:20260421T091115
DTSTART;TZID=America/Chicago:20171015T130000
DTEND;TZID=America/Chicago:20171015T153000
LOCATION:"Spurlock Museum\, 600 S. Gregory St.\, Urbana\, IL"
URL:https://www.spurlock.illinois.edu/events/event.php?ID=1379
END:VEVENT

END:VCALENDAR