BEGIN:VCALENDAR
VERSION:2.0
PRODID:-//Spurlock Museum//Spurlock Museum Events//EN
X-WR-CALNAME:Spurlock Museum Events
CALSCALE:GREGORIAN  
METHOD:PUBLISH
BEGIN:VTIMEZONE
TZID:America/Chicago
X-LIC-LOCATION:America/Chicago
BEGIN:DAYLIGHT
TZOFFSETFROM:-0600
TZOFFSETTO:-0500
TZNAME:CDT
DTSTART:19700308T020000
RRULE:FREQ=YEARLY;BYMONTH=3;BYDAY=2SU
END:DAYLIGHT
BEGIN:STANDARD
TZOFFSETFROM:-0500
TZOFFSETTO:-0600
TZNAME:CST
DTSTART:19701101T020000
RRULE:FREQ=YEARLY;BYMONTH=11;BYDAY=1SU
END:STANDARD
END:VTIMEZONE
BEGIN:VEVENT
CLASS:PUBLIC
UID:spurlock-event-1410
SUMMARY;LANGUAGE=en-us:"Talk: \"'Interior Frontiers': As Political Concept, Diagnostic, and Dispositif\" by Ann Laura Stoler"
DESCRIPTION:"\rNicholson Distinguished Visiting Scholar Lecture\r\rThis lecture considers the concept of “interior frontiers” (originally used by the German philosopher Johan Fichte in 1803) with respect to its quixotic political qualities: as a concept alert to the sorts of sensibilities that get recruited to produce hardening distinctions between who is “us” and who is construed as “them”; as a diagnostic of where and how sites of anxious over-identification emerge, and as a dispositif, central to the discriminations and visceral charge on which racialized governance depends.\rAbout Ann Laura Stoler\rAnn Laura Stoler is Willy Brandt Distinguished University Professor of Anthropology and Historical Studies at The New School for Social Research. Stoler is the director of the Institute for Critical Social Inquiry. She taught at the University of Michigan from 1989–2003 and has been at the New School for Social Research since 2004, where she was the founding chair of its revitalized Anthropology Department. She has worked for some thirty years on the politics of knowledge, colonial governance, racial epistemologies, the sexual politics of empire, and ethnography of the archives. She is the recipient of NEH, Guggenheim, NSF, SSRC, and Fulbright awards, among others.\r\rHer books include Capitalism and Confrontation in Sumatra’s Plantation Belt, 1870–1979 (1985; 1995), Race and the Education of Desire: Foucault’s History of Sexuality and the Colonial Order of Things (1995), Carnal Knowledge and Imperial Power: Race and the Intimate in Colonial Rule (2002, 2010), Along the Archival Grain: Epistemic Anxieties and Colonial Common Sense (2009), and the edited volumes Tensions of Empire: Colonial Cultures in a Bourgeois World (with Frederick Cooper, 1997), Haunted by Empire: Geographies of Intimacy in North American History (2006), Imperial Formations (with Carole McGranahan and Peter Perdue, 2007), and Imperial Debris: On Ruins and Ruination (2013). Duress: Imperial Durabilities in Our Times is forthcoming from Duke University Press. Her commitment to joining conceptual and historical research has lead to collaborative work with historians, literary scholars and philosophers, and most recently in the creation of the journal Political Concepts: A Critical Lexicon, of which she is one of the founding editors.\r\rThis event is organized by Unit for Criticism and Interpretive Theory (external link).\r\r"
DTSTAMP:20260419T165506
DTSTART;TZID=America/Chicago:20180118T180000
DTEND;TZID=America/Chicago:20180118T200000
LOCATION:"Knight Auditorium\, Spurlock Museum\, 600 S. Gregory St.\, Urbana\, IL"
URL:https://www.spurlock.illinois.edu/events/event.php?ID=1410
END:VEVENT

END:VCALENDAR