BEGIN:VCALENDAR
VERSION:2.0
PRODID:-//Spurlock Museum//Spurlock Museum Events//EN
X-WR-CALNAME:Spurlock Museum Events
CALSCALE:GREGORIAN  
METHOD:PUBLISH
BEGIN:VTIMEZONE
TZID:America/Chicago
X-LIC-LOCATION:America/Chicago
BEGIN:DAYLIGHT
TZOFFSETFROM:-0600
TZOFFSETTO:-0500
TZNAME:CDT
DTSTART:19700308T020000
RRULE:FREQ=YEARLY;BYMONTH=3;BYDAY=2SU
END:DAYLIGHT
BEGIN:STANDARD
TZOFFSETFROM:-0500
TZOFFSETTO:-0600
TZNAME:CST
DTSTART:19701101T020000
RRULE:FREQ=YEARLY;BYMONTH=11;BYDAY=1SU
END:STANDARD
END:VTIMEZONE
BEGIN:VEVENT
CLASS:PUBLIC
UID:spurlock-event-1417
SUMMARY;LANGUAGE=en-us:"Museum Mingle"
DESCRIPTION:"\rDid you know there are 4 museums on the University of Illinois campus? The Krannert Art Museum, the Sousa Archives and Center for American Music, the Pollinatarium, and the Spurlock Museum bring arts, science, and cultures to our local community. The participating museums are members of the Champaign County Museums Network, which includes 10 institutions in the county. \r\rOn January 18 from 4:00 to 5:00 pm, the Spurlock Museum will host an information fair where visitors can meet staff members from these museums, try educational activities for all five senses, and learn more about exhibits, programs, events, and other services for the people of Central Illinois.  \rThird Thursday / Knowledge at Work\rThe program is part of the Third Thursday Series and is held in conjunction with the Spurlock Museum’s temporary exhibit Knowledge at Work: The University of Illinois at 150. This exhibit explores the history of campus as a community of educators, researchers, and students engaged in learning, research, and public service. Learn about the contributions of a wide variety of people and groups to campus history and ways the University has changed how it relates to the people it serves. The exhibit runs through December 21, 2018.\r"
DTSTAMP:20260419T132815
DTSTART;TZID=America/Chicago:20180118T160000
DTEND;TZID=America/Chicago:20180118T170000
LOCATION:"Spurlock Museum\, 600 S. Gregory St.\, Urbana\, IL"
URL:https://www.spurlock.illinois.edu/events/event.php?ID=1417
END:VEVENT

END:VCALENDAR