BEGIN:VCALENDAR
VERSION:2.0
PRODID:-//Spurlock Museum//Spurlock Museum Events//EN
X-WR-CALNAME:Spurlock Museum Events
CALSCALE:GREGORIAN  
METHOD:PUBLISH
BEGIN:VTIMEZONE
TZID:America/Chicago
X-LIC-LOCATION:America/Chicago
BEGIN:DAYLIGHT
TZOFFSETFROM:-0600
TZOFFSETTO:-0500
TZNAME:CDT
DTSTART:19700308T020000
RRULE:FREQ=YEARLY;BYMONTH=3;BYDAY=2SU
END:DAYLIGHT
BEGIN:STANDARD
TZOFFSETFROM:-0500
TZOFFSETTO:-0600
TZNAME:CST
DTSTART:19701101T020000
RRULE:FREQ=YEARLY;BYMONTH=11;BYDAY=1SU
END:STANDARD
END:VTIMEZONE
BEGIN:VEVENT
CLASS:PUBLIC
UID:spurlock-event-1451
SUMMARY;LANGUAGE=en-us:"Talk: Contemporary Conversations"
DESCRIPTION:"\rThe Spurlock Museum of World Cultures’ new series Contemporary Conversations instigates conversations about contemporary cultural issues, themes, and ideas relevant to the University of Illinois and the C-U community.\r\rThe first program in the series, Cultural Stereotyping, is scheduled for Thursday, March 1, 2018 at 4:00 pm and features a discussion with SleepyEye LaFromboise (Sisseton Wahpeton Dakota and Tonawanda Seneca tribes), Cultural Educator; Araceli Diaz, Assistant Director of La Casa Cultural Latina; Patrick Hammie, Associate Professor of Painting and Sculpture in the School of Art + Design; Angela Williams, Associate Director, Center for South Asian and Middle Eastern Studies; and moderator Elisabeth Stone, Director of Education, Spurlock Museum. \r\r"
DTSTAMP:20260424T210245
DTSTART;TZID=America/Chicago:20180301T160000
DTEND;TZID=America/Chicago:20180301T170000
LOCATION:"Spurlock Museum\, 600 S. Gregory St.\, Urbana\, IL"
URL:https://www.spurlock.illinois.edu/events/event.php?ID=1451
END:VEVENT

END:VCALENDAR