BEGIN:VCALENDAR
VERSION:2.0
PRODID:-//Spurlock Museum//Spurlock Museum Events//EN
X-WR-CALNAME:Spurlock Museum Events
CALSCALE:GREGORIAN  
METHOD:PUBLISH
BEGIN:VTIMEZONE
TZID:America/Chicago
X-LIC-LOCATION:America/Chicago
BEGIN:DAYLIGHT
TZOFFSETFROM:-0600
TZOFFSETTO:-0500
TZNAME:CDT
DTSTART:19700308T020000
RRULE:FREQ=YEARLY;BYMONTH=3;BYDAY=2SU
END:DAYLIGHT
BEGIN:STANDARD
TZOFFSETFROM:-0500
TZOFFSETTO:-0600
TZNAME:CST
DTSTART:19701101T020000
RRULE:FREQ=YEARLY;BYMONTH=11;BYDAY=1SU
END:STANDARD
END:VTIMEZONE
BEGIN:VEVENT
CLASS:PUBLIC
UID:spurlock-event-1470
SUMMARY;LANGUAGE=en-us:"Exhibit: Past Time Pastimes: <span class=\"subheader\">Vintage Board Games<\/span>"
DESCRIPTION:"\rWhat's the first board game you remember playing? Who taught you? Whether the playing surface was scratched into the dirt, created by skilled artisans, or purchased at a local store, games have been a part of the human experience for thousands of years. Discover a selection of board games from the last 100 years. Are any of them part of your memories of snow days home from school or evenings with family and friends?\r\rPast Time Pastimes is part of the Playful by Design, Interdisciplinary Game Studies at Illinois Spring Symposium held April 5–7. It is sponsored by the Illinois Project for Research in the Humanities, Spurlock Museum, Illinois Informatics, CU Community FabLab, CITL, and the School for Information Sciences at UIUC.\r\r"
DTSTAMP:20260419T115743
DTSTART;TZID=America/Chicago:19691231T180000
DTEND;TZID=America/Chicago:20180708T200000
LOCATION:"Hundley Central Core Gallery\, Spurlock Museum\, 600 S. Gregory St.\, Urbana\, IL"
URL:https://www.spurlock.illinois.edu/events/event.php?ID=1470
END:VEVENT

END:VCALENDAR