BEGIN:VCALENDAR
VERSION:2.0
PRODID:-//Spurlock Museum//Spurlock Museum Events//EN
X-WR-CALNAME:Spurlock Museum Events
CALSCALE:GREGORIAN  
METHOD:PUBLISH
BEGIN:VTIMEZONE
TZID:America/Chicago
X-LIC-LOCATION:America/Chicago
BEGIN:DAYLIGHT
TZOFFSETFROM:-0600
TZOFFSETTO:-0500
TZNAME:CDT
DTSTART:19700308T020000
RRULE:FREQ=YEARLY;BYMONTH=3;BYDAY=2SU
END:DAYLIGHT
BEGIN:STANDARD
TZOFFSETFROM:-0500
TZOFFSETTO:-0600
TZNAME:CST
DTSTART:19701101T020000
RRULE:FREQ=YEARLY;BYMONTH=11;BYDAY=1SU
END:STANDARD
END:VTIMEZONE
BEGIN:VEVENT
CLASS:PUBLIC
UID:spurlock-event-1746
SUMMARY;LANGUAGE=en-us:"Let's Have a Kiki: Nathan Alexander"
DESCRIPTION:"\rNote: The guest for this event was originally Lola Carter Rothschild.\r“Let’s Have a Kiki” is a series of half hour informal gallery talks during the run of the exhibit In Her Closet—How to Make a Drag Queen. \r\rJoin us for our next kiki November 12 at 12:30 pm with Nathan Alexander. Nathan Alexander is a doctoral student in the NRES Department and served for 1.5 years on the UP Center board. His drag expansion, Annie Hart, is the creation of all that was suppressed growing up in Southern Illinois, and continues to grow in new directions. Anie has done youth drag workshops in Northern California and Southern Illinois, is Miss Humboldt 2016, and has performed in Oregon, California, and Illinois.\r\rPlease visit Annie Hart on Facebook (external link) or Instagram at @anniehartdrag (external link).\r\rWe respectfully adopt kiki as a term meaning “social gathering” that emerged from Black queer ballroom cultures in New York City. Known for its fun, laid-back, gossip-filled atmosphere, a kiki is also a support network that provides food, shelter, HIV advocacy and awareness, and an avenue for self-affirming performance expression for queer and trans youth living in the streets.\r\rThe other kikis in this series will be held 12:30–1:00pm on Tuesday, February 11; Tuesday, March 10; and Tuesday, April 14.\r"
DTSTAMP:20260422T032207
DTSTART;TZID=America/Chicago:20191112T123000
DTEND;TZID=America/Chicago:20191112T130000
LOCATION:"Campbell Gallery\, Spurlock Museum\, 600 S. Gregory St.\, Urbana\, IL"
URL:https://www.spurlock.illinois.edu/events/event.php?ID=1746
END:VEVENT

END:VCALENDAR