BEGIN:VCALENDAR
VERSION:2.0
PRODID:-//Spurlock Museum//Spurlock Museum Events//EN
X-WR-CALNAME:Spurlock Museum Events
CALSCALE:GREGORIAN  
METHOD:PUBLISH
BEGIN:VTIMEZONE
TZID:America/Chicago
X-LIC-LOCATION:America/Chicago
BEGIN:DAYLIGHT
TZOFFSETFROM:-0600
TZOFFSETTO:-0500
TZNAME:CDT
DTSTART:19700308T020000
RRULE:FREQ=YEARLY;BYMONTH=3;BYDAY=2SU
END:DAYLIGHT
BEGIN:STANDARD
TZOFFSETFROM:-0500
TZOFFSETTO:-0600
TZNAME:CST
DTSTART:19701101T020000
RRULE:FREQ=YEARLY;BYMONTH=11;BYDAY=1SU
END:STANDARD
END:VTIMEZONE
BEGIN:VEVENT
CLASS:PUBLIC
UID:spurlock-event-1769
SUMMARY;LANGUAGE=en-us:"AsiaLens: AEMS Documentary and Independent Film Series at the Spurlock Museum: <em>The Man Who Built Cambodia<\/em>"
DESCRIPTION:"\rThe Man Who Built Cambodia\rA Film by Christopher Rompré and Haig Balian.\r2015 / 37 minutes\rIntroduction and post-screening discussion TBA. \rThis film explores the life of Vann Molyvann, an architect whose work came to represent a new identity for a country emerging from independence, and whose incredible story encompasses Cambodia's turbulent journey as a modern nation. In Cambodia's post-independence period, Molyvann had been at the center of a renaissance, developing a distinctive architectural style, New Khmer Architecture. Returning in the 1990s, Molyvann is marginalized from public life and many of his works are destroyed or neglected. AsiaLENS Film SeriesAsiaLENS is a film screening and discussion series offering campus and community audiences an opportunity to view documentary and independent film on issues reflecting contemporary life in Asia.\r\rAsiaLENS screenings are funded in part by the Spurlock Museum's Y.T. Lo and S. de Mundo Lo Scholar's Studio Endowment and B.A. Knight Endowment. \r"
DTSTAMP:20260421T044338
DTSTART;TZID=America/Chicago:20200211T190000
DTEND;TZID=America/Chicago:20200211T210000
LOCATION:"Knight Auditorium\, Spurlock Museum\, 600 S. Gregory St.\, Urbana\, IL"
URL:https://www.spurlock.illinois.edu/events/event.php?ID=1769
END:VEVENT

END:VCALENDAR