BEGIN:VCALENDAR
VERSION:2.0
PRODID:-//Spurlock Museum//Spurlock Museum Events//EN
X-WR-CALNAME:Spurlock Museum Events
CALSCALE:GREGORIAN  
METHOD:PUBLISH
BEGIN:VTIMEZONE
TZID:America/Chicago
X-LIC-LOCATION:America/Chicago
BEGIN:DAYLIGHT
TZOFFSETFROM:-0600
TZOFFSETTO:-0500
TZNAME:CDT
DTSTART:19700308T020000
RRULE:FREQ=YEARLY;BYMONTH=3;BYDAY=2SU
END:DAYLIGHT
BEGIN:STANDARD
TZOFFSETFROM:-0500
TZOFFSETTO:-0600
TZNAME:CST
DTSTART:19701101T020000
RRULE:FREQ=YEARLY;BYMONTH=11;BYDAY=1SU
END:STANDARD
END:VTIMEZONE
BEGIN:VEVENT
CLASS:PUBLIC
UID:spurlock-event-1772
SUMMARY;LANGUAGE=en-us:"Champaign-Urbana Jewish Film Festival: <em>Sustainable Nation<\/em>"
DESCRIPTION:"\rSustainable Nation\r A film directed by Micah Smith.\r2019 / 60 minutes\r\rA documentary from Imagination Productions follows three individuals who are doing their part to bring sustainable water solutions to an increasingly thirsty planet. Using solutions developed in water-poor Israel, they are working to change the status quo of a world where one in 10 people lacks access to safe drinking water.\r\rContinue the Conversation following the film with Prof. Evan H. DeLucia from The Institute for Sustainability, Energy, and Environment at UIUC and Liat Maggid Alon, Israel Institute Visiting Faculty, Jewish Studies and History\rAbout the Festival\rThis Program in Jewish Culture and Society event is organized and presented by JCC Chicago and the Champaign-Urbana Jewish Federation.\rThis event is part of the Champaign-Urbana Jewish Film Festival, which itself is an expansion of the JCC Chicago Jewish Film Festival. The 7th annual Chicago event takes place February 28–March 15, 2020 around Chicagoland.\rTo learn more about the Champaign-Urbana Jewish Film Festival, visit the Festival Website (external link).\r"
DTSTAMP:20260421T063908
DTSTART;TZID=America/Chicago:20200209T170000
DTEND;TZID=America/Chicago:20200209T190000
LOCATION:"Knight Auditorium\, Spurlock Museum\, 600 S. Gregory St.\, Urbana\, IL"
URL:https://www.spurlock.illinois.edu/events/event.php?ID=1772
END:VEVENT

END:VCALENDAR