BEGIN:VCALENDAR
VERSION:2.0
PRODID:-//Spurlock Museum//Spurlock Museum Events//EN
X-WR-CALNAME:Spurlock Museum Events
CALSCALE:GREGORIAN  
METHOD:PUBLISH
BEGIN:VTIMEZONE
TZID:America/Chicago
X-LIC-LOCATION:America/Chicago
BEGIN:DAYLIGHT
TZOFFSETFROM:-0600
TZOFFSETTO:-0500
TZNAME:CDT
DTSTART:19700308T020000
RRULE:FREQ=YEARLY;BYMONTH=3;BYDAY=2SU
END:DAYLIGHT
BEGIN:STANDARD
TZOFFSETFROM:-0500
TZOFFSETTO:-0600
TZNAME:CST
DTSTART:19701101T020000
RRULE:FREQ=YEARLY;BYMONTH=11;BYDAY=1SU
END:STANDARD
END:VTIMEZONE
BEGIN:VEVENT
CLASS:PUBLIC
UID:spurlock-event-1774
SUMMARY;LANGUAGE=en-us:"Contemporary Conservations: Gender Bending—The Costume of drag"
DESCRIPTION:"\rThe Spurlock Museum’s Contemporary Conversations program series instigates conversations about contemporary cultural issues, themes, and ideas relevant to the University of Illinois and the C-U community.\r\rGender Bending is being presented as part of Contemporary Conversations and in connection with the current exhibit In Her Closet—How to Make a Drag Queen. Gender Bending is an hour-long moderated panel conversation around the aesthetics of drag and the role of gender identity in drag costuming.\r\rPanelists include Courtney Becks, Assistant Professor, African American Studies Librarian, and Jewish Studies Bibliographer; Erin Grogan, Ph.D. student, English Department; Olga Maslova, Assistant Professor of Theater; and Sharon ShareAlike, drag artist and owner of Boobs for Queens and Drag Skins. \r"
DTSTAMP:20260423T083312
DTSTART;TZID=America/Chicago:20200206T160000
DTEND;TZID=America/Chicago:20200206T180000
LOCATION:"Spurlock Museum\, 600 S. Gregory St.\, Urbana\, IL"
URL:https://www.spurlock.illinois.edu/events/event.php?ID=1774
END:VEVENT

END:VCALENDAR