BEGIN:VCALENDAR
VERSION:2.0
PRODID:-//Spurlock Museum//Spurlock Museum Events//EN
X-WR-CALNAME:Spurlock Museum Events
CALSCALE:GREGORIAN  
METHOD:PUBLISH
BEGIN:VTIMEZONE
TZID:America/Chicago
X-LIC-LOCATION:America/Chicago
BEGIN:DAYLIGHT
TZOFFSETFROM:-0600
TZOFFSETTO:-0500
TZNAME:CDT
DTSTART:19700308T020000
RRULE:FREQ=YEARLY;BYMONTH=3;BYDAY=2SU
END:DAYLIGHT
BEGIN:STANDARD
TZOFFSETFROM:-0500
TZOFFSETTO:-0600
TZNAME:CST
DTSTART:19701101T020000
RRULE:FREQ=YEARLY;BYMONTH=11;BYDAY=1SU
END:STANDARD
END:VTIMEZONE
BEGIN:VEVENT
CLASS:PUBLIC
UID:spurlock-event-1988
SUMMARY;LANGUAGE=en-us:"Exhibit: Trading in the Bronze Age"
DESCRIPTION:"\rThe Bronze Age in the Mediterranean was a cosmopolitan era. By the Late Bronze Age (1700 to 1100 BCE), complex societies had spread from the great river valleys of Mesopotamia and Egypt around the coasts of the Mediterranean to the north and west to include modern Turkey, Cyprus, Crete, and Greece. The objects in this exhibit illustrate aspects of cultures and their trading habits in the Late Bronze Age.\r"
DTSTAMP:20260422T112017
DTSTART;TZID=America/Chicago:20030121
DTEND;TZID=America/Chicago:20030910
LOCATION:"Spurlock Museum\, 600 S. Gregory St.\, Urbana\, IL"
URL:https://www.spurlock.illinois.edu/events/event.php?ID=1988
END:VEVENT

END:VCALENDAR