BEGIN:VCALENDAR
VERSION:2.0
PRODID:-//Spurlock Museum//Spurlock Museum Events//EN
X-WR-CALNAME:Spurlock Museum Events
CALSCALE:GREGORIAN  
METHOD:PUBLISH
BEGIN:VTIMEZONE
TZID:America/Chicago
X-LIC-LOCATION:America/Chicago
BEGIN:DAYLIGHT
TZOFFSETFROM:-0600
TZOFFSETTO:-0500
TZNAME:CDT
DTSTART:19700308T020000
RRULE:FREQ=YEARLY;BYMONTH=3;BYDAY=2SU
END:DAYLIGHT
BEGIN:STANDARD
TZOFFSETFROM:-0500
TZOFFSETTO:-0600
TZNAME:CST
DTSTART:19701101T020000
RRULE:FREQ=YEARLY;BYMONTH=11;BYDAY=1SU
END:STANDARD
END:VTIMEZONE
BEGIN:VEVENT
CLASS:PUBLIC
UID:spurlock-event-1998
SUMMARY;LANGUAGE=en-us:"Exhibit: Suffrage and Campaign Memorabilia\r"
DESCRIPTION:"\rBeginning as far back as the mid­-1800s, the women’s suffrage movements in both the United States and Great Britain reached their peaks in the decades prior to World War I. Led by such notable figures as Sylvia and Emmeline Pankhurst in the UK and Alice Paul and Inez Milholland in the US, suffragettes took to the streets, waving banners in parades and engaging in more militant tactics than used in prior years.\r\rThis exhibit features various memorabilia associated with the women's suffrage movements in the 1800s. \r"
DTSTAMP:20260422T054645
DTSTART;TZID=America/Chicago:20130514
DTEND;TZID=America/Chicago:20130908
LOCATION:"Spurlock Museum\, 600 S. Gregory St.\, Urbana\, IL"
URL:https://www.spurlock.illinois.edu/events/event.php?ID=1998
END:VEVENT

END:VCALENDAR