BEGIN:VCALENDAR
VERSION:2.0
PRODID:-//Spurlock Museum//Spurlock Museum Events//EN
X-WR-CALNAME:Spurlock Museum Events
CALSCALE:GREGORIAN  
METHOD:PUBLISH
BEGIN:VTIMEZONE
TZID:America/Chicago
X-LIC-LOCATION:America/Chicago
BEGIN:DAYLIGHT
TZOFFSETFROM:-0600
TZOFFSETTO:-0500
TZNAME:CDT
DTSTART:19700308T020000
RRULE:FREQ=YEARLY;BYMONTH=3;BYDAY=2SU
END:DAYLIGHT
BEGIN:STANDARD
TZOFFSETFROM:-0500
TZOFFSETTO:-0600
TZNAME:CST
DTSTART:19701101T020000
RRULE:FREQ=YEARLY;BYMONTH=11;BYDAY=1SU
END:STANDARD
END:VTIMEZONE
BEGIN:VEVENT
CLASS:PUBLIC
UID:spurlock-event-2083
SUMMARY;LANGUAGE=en-us:"Spurlock Book Club, <em>Angels in America<\/em>, Part 2: Perestroika"
DESCRIPTION:"\rThe Spurlock Book Club will be hosting a virtual discussion of Part 2 of the play Angels in America, \"Perestroika\" on 1/18/2022 at 7:30 pm. \rWebinar DetailsJoin Webinar\rWebinar ID: 881 0136 1931\rPassword: 386731\rAbout Angels in America\rOne of the most honored plays of all time, Angels in America has won the Pulitzer Prize and numerous Tony Awards. It was recently revived on Broadway in 2018 to rave reviews. Set during the AIDS crisis of the mid-1980s, characters grapple with sickness, death, a pandemic, love, sex, heaven, and hell. \rThe event is offered in conjunction with our current exhibit: Sewn in Memory: AIDS Quilt Panels from Central Illinois. \rAngels in America is the finest drama of our time, speaking to us of an entire era of life and death as no other play within memory. It ranks as nothing less than one of the greatest plays of the twentieth century. New York Observer\r"
DTSTAMP:20260420T201410
DTSTART;TZID=America/Chicago:20220118T193000
DTEND;TZID=America/Chicago:20220118T213000
LOCATION:"Online via Zoom"
URL:https://www.spurlock.illinois.edu/events/event.php?ID=2083
END:VEVENT

END:VCALENDAR