BEGIN:VCALENDAR
VERSION:2.0
PRODID:-//Spurlock Museum//Spurlock Museum Events//EN
X-WR-CALNAME:Spurlock Museum Events
CALSCALE:GREGORIAN  
METHOD:PUBLISH
BEGIN:VTIMEZONE
TZID:America/Chicago
X-LIC-LOCATION:America/Chicago
BEGIN:DAYLIGHT
TZOFFSETFROM:-0600
TZOFFSETTO:-0500
TZNAME:CDT
DTSTART:19700308T020000
RRULE:FREQ=YEARLY;BYMONTH=3;BYDAY=2SU
END:DAYLIGHT
BEGIN:STANDARD
TZOFFSETFROM:-0500
TZOFFSETTO:-0600
TZNAME:CST
DTSTART:19701101T020000
RRULE:FREQ=YEARLY;BYMONTH=11;BYDAY=1SU
END:STANDARD
END:VTIMEZONE
BEGIN:VEVENT
CLASS:PUBLIC
UID:spurlock-event-2198
SUMMARY;LANGUAGE=en-us:"The Intersectionality of Reproductive Justice"
DESCRIPTION:"\rIn light of the recent Supreme Court Dobbs v Jackson decision, this panel will address the ways in which Reproductive Justice touches all our lives, as well as how it impacts the most marginalized members of our community even more deeply. This far-reaching shift in public policy is already having devastating effects. Come hear from experts about the current state of affairs, how much worse it can and likely will get, and what can be done about it.\r\rThis event is offered in person and streamed online to Uniting Pride’s The UP Center of Champaign County Facebook (external link) and Uniting Pride of Champaign County YouTube (external link) pages.\r2022 CU Pride Fest\rThe 2022 CU Pride Fest is Sat, Sept 24th to Sun, Oct 2nd with programming all over Champaign, Urbana, and Campustown. \r\rPride Fest Schedule at Uniting Pride of C-U\r"
DTSTAMP:20260421T104530
DTSTART;TZID=America/Chicago:20220927T190000
DTEND;TZID=America/Chicago:20220927T203000
LOCATION:"Spurlock Museum\, 600 S. Gregory St.\, Urbana\, IL"
URL:https://www.spurlock.illinois.edu/events/event.php?ID=2198
END:VEVENT

END:VCALENDAR