BEGIN:VCALENDAR
VERSION:2.0
PRODID:-//Spurlock Museum//Spurlock Museum Events//EN
X-WR-CALNAME:Spurlock Museum Events
CALSCALE:GREGORIAN  
METHOD:PUBLISH
BEGIN:VTIMEZONE
TZID:America/Chicago
X-LIC-LOCATION:America/Chicago
BEGIN:DAYLIGHT
TZOFFSETFROM:-0600
TZOFFSETTO:-0500
TZNAME:CDT
DTSTART:19700308T020000
RRULE:FREQ=YEARLY;BYMONTH=3;BYDAY=2SU
END:DAYLIGHT
BEGIN:STANDARD
TZOFFSETFROM:-0500
TZOFFSETTO:-0600
TZNAME:CST
DTSTART:19701101T020000
RRULE:FREQ=YEARLY;BYMONTH=11;BYDAY=1SU
END:STANDARD
END:VTIMEZONE
BEGIN:VEVENT
CLASS:PUBLIC
UID:spurlock-event-2199
SUMMARY;LANGUAGE=en-us:"Addressing LGBTQ Violence and Discrimination in Education"
DESCRIPTION:"\rDr. Dorothy Espelage is an internationally recognized scholar whose career has been dedicated to understanding and preventing bullying and violence in schools. Her research prioritizes the health and wellbeing of LGBTQ youth. Join us as she and two of her graduate student mentees offer suggestions from the most up-to-date research regarding how to support LGBTQ people in schools, especially in light of recent discriminatory legislation across the nation.\r\rThis event is offered in person and streamed online to Uniting Pride’s The UP Center of Champaign County Facebook (external link) and Uniting Pride of Champaign County YouTube (external link) pages.\r2022 CU Pride Fest\rThe 2022 CU Pride Fest is Sat, Sept 24th to Sun, Oct 2nd with programming all over Champaign, Urbana, and Campustown. \r\rPride Fest Schedule at Uniting Pride of C-U\r"
DTSTAMP:20260421T124525
DTSTART;TZID=America/Chicago:20220928T180000
DTEND;TZID=America/Chicago:20220928T190000
LOCATION:"Spurlock Museum\, 600 S. Gregory St.\, Urbana\, IL"
URL:https://www.spurlock.illinois.edu/events/event.php?ID=2199
END:VEVENT

END:VCALENDAR