BEGIN:VCALENDAR
VERSION:2.0
PRODID:-//Spurlock Museum//Spurlock Museum Events//EN
X-WR-CALNAME:Spurlock Museum Events
CALSCALE:GREGORIAN  
METHOD:PUBLISH
BEGIN:VTIMEZONE
TZID:America/Chicago
X-LIC-LOCATION:America/Chicago
BEGIN:DAYLIGHT
TZOFFSETFROM:-0600
TZOFFSETTO:-0500
TZNAME:CDT
DTSTART:19700308T020000
RRULE:FREQ=YEARLY;BYMONTH=3;BYDAY=2SU
END:DAYLIGHT
BEGIN:STANDARD
TZOFFSETFROM:-0500
TZOFFSETTO:-0600
TZNAME:CST
DTSTART:19701101T020000
RRULE:FREQ=YEARLY;BYMONTH=11;BYDAY=1SU
END:STANDARD
END:VTIMEZONE
BEGIN:VEVENT
CLASS:PUBLIC
UID:spurlock-event-2366
SUMMARY;LANGUAGE=en-us:"Film: <em>The Cabinet of Doctor Caligari<\/em>\r"
DESCRIPTION:"\rJoin us on Halloween for a screening of the 1920 German silent horror film The Cabinet of Dr. Caligari, which tells the tale of a hypnotist who uses a somnambulist to commit murders. Laurie R. Johnson, Professor of Germanic Languages & Literatures, will briefly introduce the film and contextualize its role in the history of German Expressionist cinema. \r\rRefreshments will be served. Everyone is encouraged to come in costume. The student with the best costume will win a prize!\r\rThis event is free and open to the public.\r\rThere is an Optional RSVP (external link) for this event.\r\rSponsor: European Union Center\r\r"
DTSTAMP:20260421T000303
DTSTART;TZID=America/Chicago:20231031T163000
DTEND;TZID=America/Chicago:20231031T183000
LOCATION:"Knight Auditorium\, Spurlock Museum\, 600 S. Gregory St.\, Urbana\, IL"
URL:https://www.spurlock.illinois.edu/events/event.php?ID=2366
END:VEVENT

END:VCALENDAR