BEGIN:VCALENDAR
VERSION:2.0
PRODID:-//Spurlock Museum//Spurlock Museum Events//EN
X-WR-CALNAME:Spurlock Museum Events
CALSCALE:GREGORIAN  
METHOD:PUBLISH
BEGIN:VTIMEZONE
TZID:America/Chicago
X-LIC-LOCATION:America/Chicago
BEGIN:DAYLIGHT
TZOFFSETFROM:-0600
TZOFFSETTO:-0500
TZNAME:CDT
DTSTART:19700308T020000
RRULE:FREQ=YEARLY;BYMONTH=3;BYDAY=2SU
END:DAYLIGHT
BEGIN:STANDARD
TZOFFSETFROM:-0500
TZOFFSETTO:-0600
TZNAME:CST
DTSTART:19701101T020000
RRULE:FREQ=YEARLY;BYMONTH=11;BYDAY=1SU
END:STANDARD
END:VTIMEZONE
BEGIN:VEVENT
CLASS:PUBLIC
UID:spurlock-event-2368
SUMMARY;LANGUAGE=en-us:"Film: \"Faryade Nime Shab\" (1961) (Ebert Center for Film Studies)"
DESCRIPTION:"\rA screening of Fariyad-e Nim-e Shab / Cry of Midnight will be held on Thursday, Oct. 26. The 1961 film was directed by Samuel Khachikian, who was described as the \"Iranian Hitchcock,\" and was known for his strong female characters and the use of crime cinema motifs. In this film, a young man becomes entangled with a criminal gang but eventually finds his way back to the innocent girl that he's in love with.\r\rThe Roger Ebert Lecture (external link) will be presented on Friday, Oct. 27, by Kaveh Askari, an associate professor and director of film studies at Michigan State University. \r\rAskari is the author of Relaying Cinema in Midcentury Iran: Material Cultures in Transit, which won the 2023 Katherine Singer Kovács Book Award from the Society for Cinema and Media Studies. He also wrote Making Movies into Art: Picture Craft from the Magic Lantern to early Hollywood (2014) and is the co-editor of several volumes including a special issue of Film History titled \"South by South/West Asia: Transregional Histories of Middle East—South Asia Cinemas\" (2021) and \"Performing New Media, 1890–1915\" (2014).\r\rPresented by the Roger Ebert Center for Film Studies (external link).\r"
DTSTAMP:20260420T195001
DTSTART;TZID=America/Chicago:20231026T190000
DTEND;TZID=America/Chicago:20231026T210000
LOCATION:"Knight Auditorium\, Spurlock Museum\, 600 S. Gregory St.\, Urbana\, IL"
URL:https://www.spurlock.illinois.edu/events/event.php?ID=2368
END:VEVENT

END:VCALENDAR