BEGIN:VCALENDAR
VERSION:2.0
PRODID:-//Spurlock Museum//Spurlock Museum Events//EN
X-WR-CALNAME:Spurlock Museum Events
CALSCALE:GREGORIAN  
METHOD:PUBLISH
BEGIN:VTIMEZONE
TZID:America/Chicago
X-LIC-LOCATION:America/Chicago
BEGIN:DAYLIGHT
TZOFFSETFROM:-0600
TZOFFSETTO:-0500
TZNAME:CDT
DTSTART:19700308T020000
RRULE:FREQ=YEARLY;BYMONTH=3;BYDAY=2SU
END:DAYLIGHT
BEGIN:STANDARD
TZOFFSETFROM:-0500
TZOFFSETTO:-0600
TZNAME:CST
DTSTART:19701101T020000
RRULE:FREQ=YEARLY;BYMONTH=11;BYDAY=1SU
END:STANDARD
END:VTIMEZONE
BEGIN:VEVENT
CLASS:PUBLIC
UID:spurlock-event-2387
SUMMARY;LANGUAGE=en-us:"World AIDS Day with the Greater Community AIDS Project of East Central Illinois"
DESCRIPTION:"\rWorld AIDS Day, observed annually on December 1st, is an opportunity for people around the world to unite in the fight against HIV/AIDS, support those affected, and honor those we have lost.\r\rOur event begins with a candlelight vigil and song dedication, then transitions to guest speakers, and ends with entertainment from invited individuals/groups.\r\rThroughout the event, community members are able to view historic AIDS memorial quilts, browse educational materials, and enjoy light snacks and refreshments.\r\rTo participate as a sponsor or community partner, please email info@gcapnow.com (email link)\r"
DTSTAMP:20260425T003552
DTSTART;TZID=America/Chicago:20231201T180000
DTEND;TZID=America/Chicago:20231201T200000
LOCATION:"Spurlock Museum\, 600 S. Gregory St.\, Urbana\, IL"
URL:https://www.spurlock.illinois.edu/events/event.php?ID=2387
END:VEVENT

END:VCALENDAR