BEGIN:VCALENDAR
VERSION:2.0
PRODID:-//Spurlock Museum//Spurlock Museum Events//EN
X-WR-CALNAME:Spurlock Museum Events
CALSCALE:GREGORIAN  
METHOD:PUBLISH
BEGIN:VTIMEZONE
TZID:America/Chicago
X-LIC-LOCATION:America/Chicago
BEGIN:DAYLIGHT
TZOFFSETFROM:-0600
TZOFFSETTO:-0500
TZNAME:CDT
DTSTART:19700308T020000
RRULE:FREQ=YEARLY;BYMONTH=3;BYDAY=2SU
END:DAYLIGHT
BEGIN:STANDARD
TZOFFSETFROM:-0500
TZOFFSETTO:-0600
TZNAME:CST
DTSTART:19701101T020000
RRULE:FREQ=YEARLY;BYMONTH=11;BYDAY=1SU
END:STANDARD
END:VTIMEZONE
BEGIN:VEVENT
CLASS:PUBLIC
UID:spurlock-event-2429
SUMMARY;LANGUAGE=en-us:"Talk: \"Sefardita: A Journey from Anthropology to Fiction\" by Ruth Behar (CAS MillerComm)"
DESCRIPTION:"\rIn this presentation, Ruth Behar will discuss her recent turn from anthropology to writing coming-of-age novels. These works of historical fiction feature Jewish Cuban and Sephardic young girls seeking to understand their identities and heritage and their quest for freedom and a home where all are welcome. Behar will discuss the borders and blurring between ethnography and fiction, and how her recent book, Across So Many Seas, represents Sephardic and Jubana heritage in a time of Jewish trauma and vulnerability.\rHosted by: Program in Jewish Culture and Society\rIn conjunction with: Center for Global Studies, Center for Latin American & Caribbean Studies, Champaign Urbana Jewish Federation, Department of Anthropology, Department of Gender & Women's Studies, Department of History, Department of Latina/Latino Studies, Department of Linguistics, Department of Spanish & Portuguese, European Union Center, Global Diasporas Program, Initiative in Holocaust, Genocide, & Memory Studies, Program in Comparative & World Literature, Slavic Reference Service, Spurlock Museum, University Library\rRUTH BEHAR\rProfessor of Anthropology\rUniversity of Michigan\rDownload Event Flyer (PDF)\r"
DTSTAMP:20260422T112033
DTSTART;TZID=America/Chicago:20240425T160000
DTEND;TZID=America/Chicago:20240425T173000
LOCATION:"Knight Auditorium\, Spurlock Museum\, 600 S. Gregory St.\, Urbana\, IL"
URL:https://www.spurlock.illinois.edu/events/event.php?ID=2429
END:VEVENT

END:VCALENDAR