BEGIN:VCALENDAR
VERSION:2.0
PRODID:-//Spurlock Museum//Spurlock Museum Events//EN
X-WR-CALNAME:Spurlock Museum Events
CALSCALE:GREGORIAN  
METHOD:PUBLISH
BEGIN:VTIMEZONE
TZID:America/Chicago
X-LIC-LOCATION:America/Chicago
BEGIN:DAYLIGHT
TZOFFSETFROM:-0600
TZOFFSETTO:-0500
TZNAME:CDT
DTSTART:19700308T020000
RRULE:FREQ=YEARLY;BYMONTH=3;BYDAY=2SU
END:DAYLIGHT
BEGIN:STANDARD
TZOFFSETFROM:-0500
TZOFFSETTO:-0600
TZNAME:CST
DTSTART:19701101T020000
RRULE:FREQ=YEARLY;BYMONTH=11;BYDAY=1SU
END:STANDARD
END:VTIMEZONE
BEGIN:VEVENT
CLASS:PUBLIC
UID:spurlock-event-2445
SUMMARY;LANGUAGE=en-us:"Michael Roberts: Community Entrepreneurial DREAM Incubator"
DESCRIPTION:"\rA space for community members to talk with Michael Roberts about their entrepreneurial DREAMs.\r\rDownload Event Flyer (PDF)\r\rIn collaboration with Spurlock Museum and supported by:\r\rDr. Allan C. and Marlene S. Campbell Endowment Fund\rRichard J. and Barbara S. Faletti Gallery of African Cultures Fund\rMaatuka Al-Heeti Emkes LLC\rPresident’s Initiative to Celebrate the Impact of the Arts and Humanities\rDonald W. and Dorothy Berkey White Endowment Fund\rNorman E. Whitten Spurlock Graduate Assistant Fund\rSpurlock Museum Educational Endowment Fund\rSpurlock Museum Guild Museum Fund\rSiebel Center for Design\rGirls Like Me Inc.\rCarle Illinois College of Medicine\rNational Science Foundation\rIllinois Arts Council Agency\rMacArthur Foundation\r\r"
DTSTAMP:20260421T104725
DTSTART;TZID=America/Chicago:20240326T180000
DTEND;TZID=America/Chicago:20240326T200000
LOCATION:"Douglass Branch Library\, 504 E Grove St\, Champaign\, IL 61820"
URL:https://www.spurlock.illinois.edu/events/event.php?ID=2445
END:VEVENT

END:VCALENDAR