BEGIN:VCALENDAR
VERSION:2.0
PRODID:-//Spurlock Museum//Spurlock Museum Events//EN
X-WR-CALNAME:Spurlock Museum Events
CALSCALE:GREGORIAN  
METHOD:PUBLISH
BEGIN:VTIMEZONE
TZID:America/Chicago
X-LIC-LOCATION:America/Chicago
BEGIN:DAYLIGHT
TZOFFSETFROM:-0600
TZOFFSETTO:-0500
TZNAME:CDT
DTSTART:19700308T020000
RRULE:FREQ=YEARLY;BYMONTH=3;BYDAY=2SU
END:DAYLIGHT
BEGIN:STANDARD
TZOFFSETFROM:-0500
TZOFFSETTO:-0600
TZNAME:CST
DTSTART:19701101T020000
RRULE:FREQ=YEARLY;BYMONTH=11;BYDAY=1SU
END:STANDARD
END:VTIMEZONE
BEGIN:VEVENT
CLASS:PUBLIC
UID:spurlock-event-2489
SUMMARY;LANGUAGE=en-us:"Spurlock Sunday: Elaborating from a Line\r"
DESCRIPTION:"Do you realize how beautifully complex our brains are? For example, every second your brain is coordinating billions of bits of information to map a 3-D interpretation of the world. Although our brains are processing an infinite amount of data, we’re only aware of a tiny fraction of it at any given moment. Most importantly, we have a lot of influence over how our brains become wired over time to store and organize data from what we see, touch, smell, hear, and taste. The parts of our specific circuitry we don’t use, we lose. \r\rThis program invites you to attempt drawing exercises that improve your mind’s metabolism to convert data into an important resource: IMAGINATION. Join Spurlock staff in creating images that rely upon your ability to access preexisting data and weave it into extraordinary alternatives.\r\rAbout the SeriesSpurlock Sundays are free, drop-in programs held on the second Sunday of the month from 1:00 pm–3:00 pm and are open to visitors of all ages. Spurlock Sunday activities can include crafts, games, performances, and hands-on experiences with cultural artifacts.\r"
DTSTAMP:20260422T184843
DTSTART;TZID=America/Chicago:20240922T130000
DTEND;TZID=America/Chicago:20240922T150000
LOCATION:"Hundley Central Core Gallery\, Spurlock Museum\, 600 S. Gregory St.\, Urbana\, IL"
URL:https://www.spurlock.illinois.edu/events/event.php?ID=2489
END:VEVENT

END:VCALENDAR