BEGIN:VCALENDAR
VERSION:2.0
PRODID:-//Spurlock Museum//Spurlock Museum Events//EN
X-WR-CALNAME:Spurlock Museum Events
CALSCALE:GREGORIAN  
METHOD:PUBLISH
BEGIN:VTIMEZONE
TZID:America/Chicago
X-LIC-LOCATION:America/Chicago
BEGIN:DAYLIGHT
TZOFFSETFROM:-0600
TZOFFSETTO:-0500
TZNAME:CDT
DTSTART:19700308T020000
RRULE:FREQ=YEARLY;BYMONTH=3;BYDAY=2SU
END:DAYLIGHT
BEGIN:STANDARD
TZOFFSETFROM:-0500
TZOFFSETTO:-0600
TZNAME:CST
DTSTART:19701101T020000
RRULE:FREQ=YEARLY;BYMONTH=11;BYDAY=1SU
END:STANDARD
END:VTIMEZONE
BEGIN:VEVENT
CLASS:PUBLIC
UID:spurlock-event-2492
SUMMARY;LANGUAGE=en-us:"Film: \"Yellow Jazz Black Music\" (2021) (AsiaLENS Film Series)\r"
DESCRIPTION:"\rCome join us for our first screening for AsiaLENS this school year! This screening is FREE to attend!\r\rAfter the screening with be a virtual discussion with filmmaker Marketus Presswood.\r\rFilm Synopsis\rIn the 1920's and 1930's, African American musicians in Shanghai became crucial to define that era. This documentary is about a story of \"the half has never been told,\" that is the history of jazz as experienced by African American and Chinese musicians in China from past to present. This film traces the story of some of the important historical figures past and present that shaped part of the Chinese music scene. Featuring musicians Jasmine Chen and Theo Croker.\r\r\r"
DTSTAMP:20260422T142233
DTSTART;TZID=America/Chicago:20240925T180000
DTEND;TZID=America/Chicago:20240925T200000
LOCATION:"Knight Auditorium\, Spurlock Museum\, 600 S. Gregory St.\, Urbana\, IL"
URL:https://www.spurlock.illinois.edu/events/event.php?ID=2492
END:VEVENT

END:VCALENDAR