BEGIN:VCALENDAR
VERSION:2.0
PRODID:-//Spurlock Museum//Spurlock Museum Events//EN
X-WR-CALNAME:Spurlock Museum Events
CALSCALE:GREGORIAN  
METHOD:PUBLISH
BEGIN:VTIMEZONE
TZID:America/Chicago
X-LIC-LOCATION:America/Chicago
BEGIN:DAYLIGHT
TZOFFSETFROM:-0600
TZOFFSETTO:-0500
TZNAME:CDT
DTSTART:19700308T020000
RRULE:FREQ=YEARLY;BYMONTH=3;BYDAY=2SU
END:DAYLIGHT
BEGIN:STANDARD
TZOFFSETFROM:-0500
TZOFFSETTO:-0600
TZNAME:CST
DTSTART:19701101T020000
RRULE:FREQ=YEARLY;BYMONTH=11;BYDAY=1SU
END:STANDARD
END:VTIMEZONE
BEGIN:VEVENT
CLASS:PUBLIC
UID:spurlock-event-2494
SUMMARY;LANGUAGE=en-us:"Guided Tour: Introduction to the Spurlock Museum "
DESCRIPTION:"\rWelcome to the Spurlock Museum! This tour offers an introduction to Spurlock through highlighted objects and intriguing themes.\r\rThis tour is led by Morgan Paoli, a senior gallery guide.\r\r"
DTSTAMP:20260422T171800
DTSTART;TZID=America/Chicago:20240929T140000
DTEND;TZID=America/Chicago:20240929T144500
LOCATION:"Spurlock Museum\, 600 S. Gregory St.\, Urbana\, IL"
URL:https://www.spurlock.illinois.edu/events/event.php?ID=2494
END:VEVENT

END:VCALENDAR