BEGIN:VCALENDAR
VERSION:2.0
PRODID:-//Spurlock Museum//Spurlock Museum Events//EN
X-WR-CALNAME:Spurlock Museum Events
CALSCALE:GREGORIAN  
METHOD:PUBLISH
BEGIN:VTIMEZONE
TZID:America/Chicago
X-LIC-LOCATION:America/Chicago
BEGIN:DAYLIGHT
TZOFFSETFROM:-0600
TZOFFSETTO:-0500
TZNAME:CDT
DTSTART:19700308T020000
RRULE:FREQ=YEARLY;BYMONTH=3;BYDAY=2SU
END:DAYLIGHT
BEGIN:STANDARD
TZOFFSETFROM:-0500
TZOFFSETTO:-0600
TZNAME:CST
DTSTART:19701101T020000
RRULE:FREQ=YEARLY;BYMONTH=11;BYDAY=1SU
END:STANDARD
END:VTIMEZONE
BEGIN:VEVENT
CLASS:PUBLIC
UID:spurlock-event-2495
SUMMARY;LANGUAGE=en-us:"Talk: \"Navigating With(out) Instruments\" by traci kato-kiriyama (CAS MillerComm)"
DESCRIPTION:"\rJoin us for a talk and reading with traci kato-kiriyama on transgenerational trauma and delight, collective self-care, and creative self-determination. She will discuss the memories she both needed to face and wanted most to engage in with the communities surrounding her—from fighting cancer to navigating other “Death Moments”; from her parents’ and grandparents’ history in American concentration camps to the collective catharsis of Redress; within the joys and reimaginings of solidarity and queer love; from solo creative process to place-honoring work with an art and community lens in Los Angeles; from releasing conventional expectations to birthing art through self-determined pathways.\r\rkato-kiriyama offers a dynamic evening of poetry, storytelling, community conversation, and even a prompt or two to take with you and continue your verses.\r\rHosted by: Global Art Performance Initiatives, Krannert Center for the Performing Arts\r\rIn conjunction with: Asian American Cultural Center, College of Fine & Applied Arts, Creative Writing Program, Department of Asian American Studies, Department of English, Department of Gender & Women's Studies, Improvisers Exchange, Initiative in Holocaust, Genocide, and Memory Studies, Rhetoric Program, Robert J. and Katherin Carr Visiting Author Series, School of Music, Spurlock Museum, Unit One | Allen Hall\r\rTRACI KATO-KIRIYAMA\rGeorge A. Miller Visiting Artist\rPoet, author, performer\r\rDownload Event Flyer (PDF)\r"
DTSTAMP:20260422T155056
DTSTART;TZID=America/Chicago:20240926T160000
DTEND;TZID=America/Chicago:20240926T180000
LOCATION:"Knight Auditorium\, Spurlock Museum\, 600 S. Gregory St.\, Urbana\, IL"
URL:https://www.spurlock.illinois.edu/events/event.php?ID=2495
END:VEVENT

END:VCALENDAR