BEGIN:VCALENDAR
VERSION:2.0
PRODID:-//Spurlock Museum//Spurlock Museum Events//EN
X-WR-CALNAME:Spurlock Museum Events
CALSCALE:GREGORIAN  
METHOD:PUBLISH
BEGIN:VTIMEZONE
TZID:America/Chicago
X-LIC-LOCATION:America/Chicago
BEGIN:DAYLIGHT
TZOFFSETFROM:-0600
TZOFFSETTO:-0500
TZNAME:CDT
DTSTART:19700308T020000
RRULE:FREQ=YEARLY;BYMONTH=3;BYDAY=2SU
END:DAYLIGHT
BEGIN:STANDARD
TZOFFSETFROM:-0500
TZOFFSETTO:-0600
TZNAME:CST
DTSTART:19701101T020000
RRULE:FREQ=YEARLY;BYMONTH=11;BYDAY=1SU
END:STANDARD
END:VTIMEZONE
BEGIN:VEVENT
CLASS:PUBLIC
UID:spurlock-event-2499
SUMMARY;LANGUAGE=en-us:"Dinner On Us at Native American House: Collaboration and Restitution at the Spurlock Museum"
DESCRIPTION:"\rSpeaker: Dr. Elizabeth Sutton, Director, Spurlock Museum of World Cultures\r\rThis discussion provides an overview of how the Spurlock Museum has worked towards becoming a better ally of Native nations over the last 7 years. Through collaborations with artists, culture keepers, and descendants, the Museum is committed to amplifying Native voices and perspectives and returning important works to source communities.\r\r\r"
DTSTAMP:20260422T155056
DTSTART;TZID=America/Chicago:20240924T173000
DTEND;TZID=America/Chicago:20240924T183000
LOCATION:"Asian American Cultural Center\, 1210 W Nevada St. Urbana\, IL"
URL:https://www.spurlock.illinois.edu/events/event.php?ID=2499
END:VEVENT

END:VCALENDAR