BEGIN:VCALENDAR
VERSION:2.0
PRODID:-//Spurlock Museum//Spurlock Museum Events//EN
X-WR-CALNAME:Spurlock Museum Events
CALSCALE:GREGORIAN  
METHOD:PUBLISH
BEGIN:VTIMEZONE
TZID:America/Chicago
X-LIC-LOCATION:America/Chicago
BEGIN:DAYLIGHT
TZOFFSETFROM:-0600
TZOFFSETTO:-0500
TZNAME:CDT
DTSTART:19700308T020000
RRULE:FREQ=YEARLY;BYMONTH=3;BYDAY=2SU
END:DAYLIGHT
BEGIN:STANDARD
TZOFFSETFROM:-0500
TZOFFSETTO:-0600
TZNAME:CST
DTSTART:19701101T020000
RRULE:FREQ=YEARLY;BYMONTH=11;BYDAY=1SU
END:STANDARD
END:VTIMEZONE
BEGIN:VEVENT
CLASS:PUBLIC
UID:spurlock-event-2519
SUMMARY;LANGUAGE=en-us:"\"The Library of Babel\" Screening and Discussion (CAS MillerComm)"
DESCRIPTION:"\rThe screening will be preceded with an introduction by special guest Hearty White.\r\rInspired by a 1941 Jorge Luis Borges short story, The Library of Babel (2024) explores themes related to the complex interplay of infinity, knowledge, and the cosmic fabric, presented through the metaphor of a vast, seemingly infinite library. In the story, the librarians are isolated, focused on an almost religious or existential quest, struggling to find meaningful texts amidst an overwhelming number of nonsensical or irrelevant books. The library itself has no goals or intentions; a canvas onto which searchers project their quests for meaning. The narrative delves into the angst and crises of those that explore its depths, raising questions about our ability to manage, navigate, and find meaning from vast amounts of information. In her film inspired by the story, artist Vicki Bennett relies on an amalgamation of audio-visual collage and intricate editing techniques to reconfigure, decompose, redirect, and recombine images with sounds that are often already ingrained in audience’s collective consciousness. Rather than adhering to a linear progression of events, her thematic narrative unfolds in layered complexities, offering a fragmented but coherent tale achieved through a blend of various sources and an ‘exquisite corpse’ approach.\r\rThe screening will be followed by a discussion with Bennett and White on their independent and collaborative creative journeys in seeking meaning, social connection, and joy through the mediums of radio, video, and performance.\r\rDownload Event Flyer (PDF)\r\rEvent Details\rHosted by: College of Fine & Applied Arts\r\rIn conjunction with: Department of Media & Cinema Studies, Department of Musicology, Department of Philosophy, Department of Psychology, Illinois Public Media, School of Art &plus; Design, Spurlock Museum, University Library\r\rVicki Bennett aka People Like Us (external link) (UK)\r\rGeorge A. Miller Visiting Artist\r"
DTSTAMP:20260421T102824
DTSTART;TZID=America/Chicago:20241111T180000
DTEND;TZID=America/Chicago:20241111T200000
LOCATION:"Knight Auditorium\, Spurlock Museum\, 600 S. Gregory St.\, Urbana\, IL"
URL:https://www.spurlock.illinois.edu/events/event.php?ID=2519
END:VEVENT

END:VCALENDAR