BEGIN:VCALENDAR
VERSION:2.0
PRODID:-//Spurlock Museum//Spurlock Museum Events//EN
X-WR-CALNAME:Spurlock Museum Events
CALSCALE:GREGORIAN  
METHOD:PUBLISH
BEGIN:VTIMEZONE
TZID:America/Chicago
X-LIC-LOCATION:America/Chicago
BEGIN:DAYLIGHT
TZOFFSETFROM:-0600
TZOFFSETTO:-0500
TZNAME:CDT
DTSTART:19700308T020000
RRULE:FREQ=YEARLY;BYMONTH=3;BYDAY=2SU
END:DAYLIGHT
BEGIN:STANDARD
TZOFFSETFROM:-0500
TZOFFSETTO:-0600
TZNAME:CST
DTSTART:19701101T020000
RRULE:FREQ=YEARLY;BYMONTH=11;BYDAY=1SU
END:STANDARD
END:VTIMEZONE
BEGIN:VEVENT
CLASS:PUBLIC
UID:spurlock-event-2522
SUMMARY;LANGUAGE=en-us:"AsiaLENS: \"1923 Kanto Massacre\""
DESCRIPTION:"\rThe Great Kanto Earthquake of 1923 marked a moment of unprecedented material destruction and cultural rupture in modern Japan. The disaster soon became subject to human interpretation and political manipulation as the earth tremors and subsequent fire produced not only physical chaos but also the rumors and violence against Koreans revealing what was fearful and why. After a century, this documentary reconstructs the course of this mayhem against the colonized, and traces the ways in which the story of this genocidal violence has long been covered up, haunting those whose lives were never the same after encountering the forbidden truth. \r\rThe screening will be introduced by historian and UIUC alum Dr. Jinhee Lee (Creative Producer of \"1923 Kanto Massacre\" and History Professor/Asian Studies Chair, Eastern Illinois University). Dr. Matt Winters, Director of CEAPS will moderate the discussion and a Q&A with the film's Creative Producer afterwards. \r\rRegistration for this event is encouraged but not required.\r\rEvent Registration Form (external link)>\r\rFilm Details\r\rTitle: 1923 Kanto Massacre (1923 간토대학살; 1923関東大虐殺)\rDirectors: KIM Tae-yeong and CHOI Gyu-seog\rYear: 2024\rDuration: 116 min.\rCountry: Korea\rLanguage: Japanese, Korean, English\rSubtitles: English\r\r"
DTSTAMP:20260421T085410
DTSTART;TZID=America/Chicago:20241113T180000
DTEND;TZID=America/Chicago:20241113T200000
LOCATION:"Knight Auditorium\, Spurlock Museum\, 600 S. Gregory St.\, Urbana\, IL"
URL:https://www.spurlock.illinois.edu/events/event.php?ID=2522
END:VEVENT

END:VCALENDAR