BEGIN:VCALENDAR
VERSION:2.0
PRODID:-//Spurlock Museum//Spurlock Museum Events//EN
X-WR-CALNAME:Spurlock Museum Events
CALSCALE:GREGORIAN  
METHOD:PUBLISH
BEGIN:VTIMEZONE
TZID:America/Chicago
X-LIC-LOCATION:America/Chicago
BEGIN:DAYLIGHT
TZOFFSETFROM:-0600
TZOFFSETTO:-0500
TZNAME:CDT
DTSTART:19700308T020000
RRULE:FREQ=YEARLY;BYMONTH=3;BYDAY=2SU
END:DAYLIGHT
BEGIN:STANDARD
TZOFFSETFROM:-0500
TZOFFSETTO:-0600
TZNAME:CST
DTSTART:19701101T020000
RRULE:FREQ=YEARLY;BYMONTH=11;BYDAY=1SU
END:STANDARD
END:VTIMEZONE
BEGIN:VEVENT
CLASS:PUBLIC
UID:spurlock-event-2528
SUMMARY;LANGUAGE=en-us:"Ebert Center Screening: \"Alien: Romulus\"\r"
DESCRIPTION:"\rJoin us for a free Ebert Center screening of the 2024 sci-fi horror film Alien: Romulus, the seventh in the popular Alien franchise. Directed by Fede Álvarez, the film features a cast of rising talent as they discover, once again, that in space no one can hear you scream. \r\rAlien: Romulus | Official Trailer (YouTube) \r\rFree and open to the public.\r\rPresented by the Roger Ebert Center for Film Studies (external link).\r"
DTSTAMP:20260421T105353
DTSTART;TZID=America/Chicago:20241114T190000
DTEND;TZID=America/Chicago:20241114T213000
LOCATION:"Knight Auditorium\, Spurlock Museum\, 600 S. Gregory St.\, Urbana\, IL"
URL:https://www.spurlock.illinois.edu/events/event.php?ID=2528
END:VEVENT

END:VCALENDAR