BEGIN:VCALENDAR
VERSION:2.0
PRODID:-//Spurlock Museum//Spurlock Museum Events//EN
X-WR-CALNAME:Spurlock Museum Events
CALSCALE:GREGORIAN  
METHOD:PUBLISH
BEGIN:VTIMEZONE
TZID:America/Chicago
X-LIC-LOCATION:America/Chicago
BEGIN:DAYLIGHT
TZOFFSETFROM:-0600
TZOFFSETTO:-0500
TZNAME:CDT
DTSTART:19700308T020000
RRULE:FREQ=YEARLY;BYMONTH=3;BYDAY=2SU
END:DAYLIGHT
BEGIN:STANDARD
TZOFFSETFROM:-0500
TZOFFSETTO:-0600
TZNAME:CST
DTSTART:19701101T020000
RRULE:FREQ=YEARLY;BYMONTH=11;BYDAY=1SU
END:STANDARD
END:VTIMEZONE
BEGIN:VEVENT
CLASS:PUBLIC
UID:spurlock-event-2533
SUMMARY;LANGUAGE=en-us:"Community Concert with Zach Mayer"
DESCRIPTION:"\rJoin the C-U Jewish community for an evening with Zach Mayer (external link), whose powerful, wordless melodies of nigunim connect hearts and uplift spirits. Drawing from his four-generation cantor lineage, Zach invites you to discover the joy of song and community in a truly transformative musical experience.\r\rThis event is free and open to all ages! Please RSVP.\r\rRSVP Form (external link)\r"
DTSTAMP:20260420T233909
DTSTART;TZID=America/Chicago:20241214T190000
DTEND;TZID=America/Chicago:20241214T203000
LOCATION:"Knight Auditorium\, Spurlock Museum\, 600 S. Gregory St.\, Urbana\, IL"
URL:https://www.spurlock.illinois.edu/events/event.php?ID=2533
END:VEVENT

END:VCALENDAR