BEGIN:VCALENDAR
VERSION:2.0
PRODID:-//Spurlock Museum//Spurlock Museum Events//EN
X-WR-CALNAME:Spurlock Museum Events
CALSCALE:GREGORIAN  
METHOD:PUBLISH
BEGIN:VTIMEZONE
TZID:America/Chicago
X-LIC-LOCATION:America/Chicago
BEGIN:DAYLIGHT
TZOFFSETFROM:-0600
TZOFFSETTO:-0500
TZNAME:CDT
DTSTART:19700308T020000
RRULE:FREQ=YEARLY;BYMONTH=3;BYDAY=2SU
END:DAYLIGHT
BEGIN:STANDARD
TZOFFSETFROM:-0500
TZOFFSETTO:-0600
TZNAME:CST
DTSTART:19701101T020000
RRULE:FREQ=YEARLY;BYMONTH=11;BYDAY=1SU
END:STANDARD
END:VTIMEZONE
BEGIN:VEVENT
CLASS:PUBLIC
UID:spurlock-event-2535
SUMMARY;LANGUAGE=en-us:"Ebert Center Screening: \"Gremlins\""
DESCRIPTION:"\rJoin us for a free Ebert Center screening of the family-favorite Gremlins (1984), as we all learn the importance of caring for a cute and cuddly Mogwai. This classic holiday film, directed by Joe Dante, has enough comedy and thrills for viewers of all ages. The screening will be introduced by MACS lecturer Jonathan Knipp. \r\rRated PG.\r\rFree and open to the public.\r\rPresented by the Roger Ebert Center for Film Studies (external link).\r"
DTSTAMP:20260421T013527
DTSTART;TZID=America/Chicago:20241205T190000
DTEND;TZID=America/Chicago:20241205T213000
LOCATION:"Knight Auditorium\, Spurlock Museum\, 600 S. Gregory St.\, Urbana\, IL"
URL:https://www.spurlock.illinois.edu/events/event.php?ID=2535
END:VEVENT

END:VCALENDAR