BEGIN:VCALENDAR
VERSION:2.0
PRODID:-//Spurlock Museum//Spurlock Museum Events//EN
X-WR-CALNAME:Spurlock Museum Events
CALSCALE:GREGORIAN  
METHOD:PUBLISH
BEGIN:VTIMEZONE
TZID:America/Chicago
X-LIC-LOCATION:America/Chicago
BEGIN:DAYLIGHT
TZOFFSETFROM:-0600
TZOFFSETTO:-0500
TZNAME:CDT
DTSTART:19700308T020000
RRULE:FREQ=YEARLY;BYMONTH=3;BYDAY=2SU
END:DAYLIGHT
BEGIN:STANDARD
TZOFFSETFROM:-0500
TZOFFSETTO:-0600
TZNAME:CST
DTSTART:19701101T020000
RRULE:FREQ=YEARLY;BYMONTH=11;BYDAY=1SU
END:STANDARD
END:VTIMEZONE
BEGIN:VEVENT
CLASS:PUBLIC
UID:spurlock-event-2593
SUMMARY;LANGUAGE=en-us:"Spurlock Sunday: Hand Fans as Cool(ing) Art"
DESCRIPTION:"\rThe hand fan dates back over 4000 years, with the earliest versions found within tombs of Egyptian Pharaohs. Hand fans also get a mention in several ancient Greek and Roman texts as well as in the Bible. Primitive fans were designed to be both functional and ceremonial. \r\rThe primary function was to cool the body’s surface. Ancient peoples very likely instinctually knew to wave their hands through the air to produce a cooling effect. Eventually this low-tech technique evolved into the construction of primitive hand fans whose designs are still used today. The folding fan originated in ancient Japan and was considered ‘more functional,’ as its predecessor was cumbersome to carry around and would have mainly been used by the servants of the higher classes to shield the sun from their master’s faces – itself behavior illustrating a ceremonial function: to assert class superiority through frivolous laborers. \r\rBecause their design and construction evolved from often flat, natural materials, fans have long provided a surface on which to draw, paint, stitch, and gild. From here evolved more aesthetic and ceremonial functions. In addition to being objects for cooling, fans have been used for storytelling; political and social messaging; advertising; and polarizing sports fandom. Please come join us as we construct, design, and decorate hand fans.\r\rAbout the Series\rSpurlock Sundays are free, drop-in programs held on one Sunday of the month from 1:00–3:30 pm. Programs are open to visitors of all ages and developed with youth and family in mind. Spurlock Sunday activities can take a multitude of forms, from crafts, games, performances, topical open-mic sharing, community conversations, and hands-on experiences with cultural artifacts.\r"
DTSTAMP:20260420T013823
DTSTART;TZID=America/Chicago:20250504T140000
DTEND;TZID=America/Chicago:20250504T160000
LOCATION:"Collaboration and Community Gallery\, Spurlock Museum\, 600 S. Gregory St.\, Urbana\, IL"
URL:https://www.spurlock.illinois.edu/events/event.php?ID=2593
END:VEVENT

END:VCALENDAR